[dpdk-test-report] |SUCCESS| [GIT MASTER] 1b85f8a83075af28fae68954c3615fedb866ecef
dpdklab at iol.unh.edu
dpdklab at iol.unh.edu
Tue Oct 8 16:31:30 CEST 2019
_Compile Testing PASS_
Branch: dpdk-next-net-mlx
1b85f8a83075af28fae68954c3615fedb866ecef --> compile testing pass
Test environment and result as below:
+--------------+------------------+-------------------+--------------+
| Environment | dpdk_compile_ovs | dpdk_compile_spdk | dpdk_compile |
+==============+==================+===================+==============+
| Ubuntu 18.04 | PASS | PASS | PASS |
+--------------+------------------+-------------------+--------------+
| FreeBSD 11.2 | | PASS | PASS |
+--------------+------------------+-------------------+--------------+
Ubuntu 18.04
Kernel: 4.15.0-generic
GCC: 7.4
FreeBSD 11.2
Kernel: 11.2
GCC: 8.3
https://lab.dpdk.org/results/dashboard/tarballs/6452/
UNH-IOL DPDK Performance Test Lab
To manage your email subscriptions visit:
https://lab.dpdk.org/results/dashboard/preferences/subscriptions/
More information about the test-report
mailing list