[dpdk-test-report] |SUCCESS| [GIT MASTER] 57b0bf0ded66b20a4f2ffb16d5b9ab0d98096c82
dpdklab at iol.unh.edu
dpdklab at iol.unh.edu
Tue Oct 8 20:21:35 CEST 2019
_Compile Testing PASS_
Branch: dpdk-next-net
57b0bf0ded66b20a4f2ffb16d5b9ab0d98096c82 --> compile testing pass
Test environment and result as below:
+--------------+-------------------+--------------+------------------+
| Environment | dpdk_compile_spdk | dpdk_compile | dpdk_compile_ovs |
+==============+===================+==============+==================+
| Ubuntu 18.04 | PASS | PASS | PASS |
+--------------+-------------------+--------------+------------------+
| FreeBSD 11.2 | PASS | PASS | |
+--------------+-------------------+--------------+------------------+
Ubuntu 18.04
Kernel: 4.15.0-generic
GCC: 7.4
FreeBSD 11.2
Kernel: 11.2
GCC: 8.3
https://lab.dpdk.org/results/dashboard/tarballs/6457/
UNH-IOL DPDK Performance Test Lab
To manage your email subscriptions visit:
https://lab.dpdk.org/results/dashboard/preferences/subscriptions/
More information about the test-report
mailing list