[dpdk-test-report] |SUCCESS| pw60771-60773 [PATCH] [v6, 1/3] vhost: translate incoming log address to gpa
dpdklab at iol.unh.edu
dpdklab at iol.unh.edu
Wed Oct 9 14:36:23 CEST 2019
Test-Label: iol-compilation
Test-Status: SUCCESS
http://dpdk.org/patch/60771
_Compile Testing PASS_
Submitter: Adrian Moreno <amorenoz at redhat.com>
Date: Wednesday, October 09 2019 11:54:30
DPDK git baseline: Repo:dpdk-next-virtio
Branch: master
CommitID:d250c31349f3b99460efbb07edfa6816ca352868
60771-60773 --> compile testing pass
Test environment and result as below:
+--------------+-------------------+------------------+--------------+
| Environment | dpdk_compile_spdk | dpdk_compile_ovs | dpdk_compile |
+==============+===================+==================+==============+
| Ubuntu 18.04 | PASS | PASS | PASS |
+--------------+-------------------+------------------+--------------+
| FreeBSD 11.2 | PASS | | PASS |
+--------------+-------------------+------------------+--------------+
Ubuntu 18.04
Kernel: 4.15.0-generic
GCC: 7.4
FreeBSD 11.2
Kernel: 11.2
GCC: 8.3
https://lab.dpdk.org/results/dashboard/patchsets/7850/
UNH-IOL DPDK Performance Test Lab
To manage your email subscriptions visit:
https://lab.dpdk.org/results/dashboard/preferences/subscriptions/
More information about the test-report
mailing list