[dpdk-test-report] |SUCCESS| pw60769 [PATCH] [v2] net/dpaa2: set port in the mbuf
dpdklab at iol.unh.edu
dpdklab at iol.unh.edu
Wed Oct 9 15:05:44 CEST 2019
Test-Label: iol-compilation
Test-Status: SUCCESS
http://dpdk.org/patch/60769
_Compile Testing PASS_
Submitter: Nipun Gupta <nipun.gupta at nxp.com>
Date: Wednesday, October 09 2019 11:13:23
DPDK git baseline: Repo:dpdk-next-net
Branch: master
CommitID:57b0bf0ded66b20a4f2ffb16d5b9ab0d98096c82
60769 --> compile testing pass
Test environment and result as below:
+--------------+------------------+-------------------+--------------+
| Environment | dpdk_compile_ovs | dpdk_compile_spdk | dpdk_compile |
+==============+==================+===================+==============+
| Ubuntu 18.04 | PASS | PASS | PASS |
+--------------+------------------+-------------------+--------------+
| FreeBSD 11.2 | | PASS | PASS |
+--------------+------------------+-------------------+--------------+
Ubuntu 18.04
Kernel: 4.15.0-generic
GCC: 7.4
FreeBSD 11.2
Kernel: 11.2
GCC: 8.3
https://lab.dpdk.org/results/dashboard/patchsets/7849/
UNH-IOL DPDK Performance Test Lab
To manage your email subscriptions visit:
https://lab.dpdk.org/results/dashboard/preferences/subscriptions/
More information about the test-report
mailing list