[dpdk-test-report] |SUCCESS| pw60838-60846 [PATCH] [v2, 01/12] net/bnxt: fix return checks and return values
dpdklab at iol.unh.edu
dpdklab at iol.unh.edu
Thu Oct 10 04:21:20 CEST 2019
Test-Label: iol-compilation
Test-Status: SUCCESS
http://dpdk.org/patch/60838
_Compile Testing PASS_
Submitter: Ajit Khaparde <ajit.khaparde at broadcom.com>
Date: Thursday, October 10 2019 01:41:42
DPDK git baseline: Repo:dpdk-next-net
Branch: master
CommitID:ba718080c23485f1f35a7fdafd9bc6d693e8e2a8
60838-60846 --> compile testing pass
Test environment and result as below:
+--------------+--------------+------------------+-------------------+
| Environment | dpdk_compile | dpdk_compile_ovs | dpdk_compile_spdk |
+==============+==============+==================+===================+
| Ubuntu 18.04 | PASS | PASS | PASS |
+--------------+--------------+------------------+-------------------+
| FreeBSD 11.2 | PASS | | PASS |
+--------------+--------------+------------------+-------------------+
Ubuntu 18.04
Kernel: 4.15.0-generic
GCC: 7.4
FreeBSD 11.2
Kernel: 11.2
GCC: 8.3
https://lab.dpdk.org/results/dashboard/patchsets/7863/
UNH-IOL DPDK Performance Test Lab
To manage your email subscriptions visit:
https://lab.dpdk.org/results/dashboard/preferences/subscriptions/
More information about the test-report
mailing list