[dpdk-test-report] |SUCCESS| pw60788-60796 [PATCH] [v11, 1/9] vhost: add the inflight description
dpdklab at iol.unh.edu
dpdklab at iol.unh.edu
Thu Oct 10 04:35:21 CEST 2019
Test-Label: iol-compilation
Test-Status: SUCCESS
http://dpdk.org/patch/60788
_Compile Testing PASS_
Submitter: Jin Yu <jin.yu at intel.com>
Date: Wednesday, October 09 2019 20:48:29
DPDK git baseline: Repo:dpdk
Branch: master
CommitID:b0f66a68ca7448296fd598e6e100ad278e417ed6
60788-60796 --> compile testing pass
Test environment and result as below:
+--------------+--------------+------------------+-------------------+
| Environment | dpdk_compile | dpdk_compile_ovs | dpdk_compile_spdk |
+==============+==============+==================+===================+
| Ubuntu 18.04 | PASS | PASS | PASS |
+--------------+--------------+------------------+-------------------+
| FreeBSD 11.2 | PASS | | PASS |
+--------------+--------------+------------------+-------------------+
Ubuntu 18.04
Kernel: 4.15.0-generic
GCC: 7.4
FreeBSD 11.2
Kernel: 11.2
GCC: 8.3
https://lab.dpdk.org/results/dashboard/patchsets/7853/
UNH-IOL DPDK Performance Test Lab
To manage your email subscriptions visit:
https://lab.dpdk.org/results/dashboard/preferences/subscriptions/
More information about the test-report
mailing list