[dpdk-test-report] |SUCCESS| pw60824 [PATCH] net/af_packet: improve Tx statistics accuracy
dpdklab at iol.unh.edu
dpdklab at iol.unh.edu
Thu Oct 10 05:20:12 CEST 2019
Test-Label: iol-compilation
Test-Status: SUCCESS
http://dpdk.org/patch/60824
_Compile Testing PASS_
Submitter: Flavia Musatescu <flavia.musatescu at intel.com>
Date: Wednesday, October 09 2019 15:29:09
DPDK git baseline: Repo:dpdk
Branch: master
CommitID:b0f66a68ca7448296fd598e6e100ad278e417ed6
60824 --> compile testing pass
Test environment and result as below:
+--------------+--------------+-------------------+------------------+
| Environment | dpdk_compile | dpdk_compile_spdk | dpdk_compile_ovs |
+==============+==============+===================+==================+
| Ubuntu 18.04 | PASS | PASS | PASS |
+--------------+--------------+-------------------+------------------+
| FreeBSD 11.2 | PASS | PASS | |
+--------------+--------------+-------------------+------------------+
Ubuntu 18.04
Kernel: 4.15.0-generic
GCC: 7.4
FreeBSD 11.2
Kernel: 11.2
GCC: 8.3
https://lab.dpdk.org/results/dashboard/patchsets/7860/
UNH-IOL DPDK Performance Test Lab
To manage your email subscriptions visit:
https://lab.dpdk.org/results/dashboard/preferences/subscriptions/
More information about the test-report
mailing list