[dpdk-test-report] |SUCCESS| pw61113-61115 [PATCH] [v12, 1/3] ethdev: decouple flow types and RSS offload types
dpdklab at iol.unh.edu
dpdklab at iol.unh.edu
Mon Oct 14 20:20:57 CEST 2019
Test-Label: iol-compilation
Test-Status: SUCCESS
http://dpdk.org/patch/61113
_Compile Testing PASS_
Submitter: Simei Su <simei.su at intel.com>
Date: Monday, October 14 2019 13:36:07
DPDK git baseline: Repo:dpdk-next-net
Branch: master
CommitID:8f4130ff9831e557c5b92642f22093ffed3a9c2c
61113-61115 --> compile testing pass
Test environment and result as below:
+--------------+------------------+-------------------+--------------+
| Environment | dpdk_compile_ovs | dpdk_compile_spdk | dpdk_compile |
+==============+==================+===================+==============+
| Ubuntu 18.04 | PASS | PASS | PASS |
+--------------+------------------+-------------------+--------------+
| FreeBSD 11.2 | | PASS | PASS |
+--------------+------------------+-------------------+--------------+
Ubuntu 18.04
Kernel: 4.15.0-generic
GCC: 7.4
FreeBSD 11.2
Kernel: 11.2
GCC: 8.3
https://lab.dpdk.org/results/dashboard/patchsets/7921/
UNH-IOL DPDK Performance Test Lab
To manage your email subscriptions visit:
https://lab.dpdk.org/results/dashboard/preferences/subscriptions/
More information about the test-report
mailing list