[dpdk-test-report] |SUCCESS| [GIT MASTER] c4d4c37e412769af6e7918bae84695934b85143a
dpdklab at iol.unh.edu
dpdklab at iol.unh.edu
Mon Oct 14 20:27:28 CEST 2019
_Compile Testing PASS_
Branch: dpdk-next-net
c4d4c37e412769af6e7918bae84695934b85143a --> compile testing pass
Test environment and result as below:
+--------------+------------------+-------------------+--------------+
| Environment | dpdk_compile_ovs | dpdk_compile_spdk | dpdk_compile |
+==============+==================+===================+==============+
| Ubuntu 18.04 | PASS | PASS | PASS |
+--------------+------------------+-------------------+--------------+
| FreeBSD 11.2 | | PASS | PASS |
+--------------+------------------+-------------------+--------------+
Ubuntu 18.04
Kernel: 4.15.0-generic
GCC: 7.4
FreeBSD 11.2
Kernel: 11.2
GCC: 8.3
https://lab.dpdk.org/results/dashboard/tarballs/6537/
UNH-IOL DPDK Performance Test Lab
To manage your email subscriptions visit:
https://lab.dpdk.org/results/dashboard/preferences/subscriptions/
More information about the test-report
mailing list