[dpdk-test-report] |SUCCESS| pw61279-61281 [PATCH] [v14, 1/3] ethdev: decouple flow types and RSS offload types
dpdklab at iol.unh.edu
dpdklab at iol.unh.edu
Tue Oct 15 17:35:30 CEST 2019
Test-Label: iol-compilation
Test-Status: SUCCESS
http://dpdk.org/patch/61279
_Compile Testing PASS_
Submitter: Simei Su <simei.su at intel.com>
Date: Tuesday, October 15 2019 15:09:47
DPDK git baseline: Repo:dpdk-next-net
Branch: master
CommitID:c4d4c37e412769af6e7918bae84695934b85143a
61279-61281 --> compile testing pass
Test environment and result as below:
+--------------+--------------+-------------------+------------------+
| Environment | dpdk_compile | dpdk_compile_spdk | dpdk_compile_ovs |
+==============+==============+===================+==================+
| Ubuntu 18.04 | PASS | PASS | PASS |
+--------------+--------------+-------------------+------------------+
| FreeBSD 11.2 | PASS | PASS | |
+--------------+--------------+-------------------+------------------+
Ubuntu 18.04
Kernel: 4.15.0-generic
GCC: 7.4
FreeBSD 11.2
Kernel: 11.2
GCC: 8.3
https://lab.dpdk.org/results/dashboard/patchsets/7957/
UNH-IOL DPDK Performance Test Lab
To manage your email subscriptions visit:
https://lab.dpdk.org/results/dashboard/preferences/subscriptions/
More information about the test-report
mailing list