[dpdk-test-report] |SUCCESS| pw61284 [PATCH] [v5] vhost: add support for large buffers
dpdklab at iol.unh.edu
dpdklab at iol.unh.edu
Tue Oct 15 21:35:19 CEST 2019
Test-Label: iol-compilation
Test-Status: SUCCESS
http://dpdk.org/patch/61284
_Compile Testing PASS_
Submitter: Flavio Leitner <fbl at sysclose.org>
Date: Tuesday, October 15 2019 18:59:51
DPDK git baseline: Repo:dpdk
Branch: master
CommitID:31b798a6f08e9b333b94b8bb26910209aa810b73
61284 --> compile testing pass
Test environment and result as below:
+--------------+------------------+-------------------+--------------+
| Environment | dpdk_compile_ovs | dpdk_compile_spdk | dpdk_compile |
+==============+==================+===================+==============+
| Ubuntu 18.04 | PASS | PASS | PASS |
+--------------+------------------+-------------------+--------------+
| FreeBSD 11.2 | | PASS | PASS |
+--------------+------------------+-------------------+--------------+
Ubuntu 18.04
Kernel: 4.15.0-generic
GCC: 7.4
FreeBSD 11.2
Kernel: 11.2
GCC: 8.3
https://lab.dpdk.org/results/dashboard/patchsets/7960/
UNH-IOL DPDK Performance Test Lab
To manage your email subscriptions visit:
https://lab.dpdk.org/results/dashboard/preferences/subscriptions/
More information about the test-report
mailing list