[dpdk-test-report] |SUCCESS| pw61287 [PATCH] [v2] net/mlx5: retry when link update fails
dpdklab at iol.unh.edu
dpdklab at iol.unh.edu
Wed Oct 16 09:50:34 CEST 2019
Test-Label: iol-compilation
Test-Status: SUCCESS
http://dpdk.org/patch/61287
_Compile Testing PASS_
Submitter: Moti Haimovsky <motih at mellanox.com>
Date: Wednesday, October 16 2019 07:34:03
DPDK git baseline: Repo:dpdk
Branch: master
CommitID:a8f8ae1cf9b68f6398b49019ca07a215a57bba41
61287 --> compile testing pass
Test environment and result as below:
+--------------+--------------+-------------------+------------------+
| Environment | dpdk_compile | dpdk_compile_spdk | dpdk_compile_ovs |
+==============+==============+===================+==================+
| Ubuntu 18.04 | PASS | PASS | PASS |
+--------------+--------------+-------------------+------------------+
| FreeBSD 11.2 | PASS | PASS | |
+--------------+--------------+-------------------+------------------+
Ubuntu 18.04
Kernel: 4.15.0-generic
GCC: 7.4
FreeBSD 11.2
Kernel: 11.2
GCC: 8.3
https://lab.dpdk.org/results/dashboard/patchsets/7963/
UNH-IOL DPDK Performance Test Lab
To manage your email subscriptions visit:
https://lab.dpdk.org/results/dashboard/preferences/subscriptions/
More information about the test-report
mailing list