[dpdk-test-report] |SUCCESS| [GIT MASTER] 5005bcda71239fa25b48811dff64d6050d3bc4a3
dpdklab at iol.unh.edu
dpdklab at iol.unh.edu
Wed Oct 16 17:28:52 CEST 2019
_Compile Testing PASS_
Branch: dpdk-next-virtio
5005bcda71239fa25b48811dff64d6050d3bc4a3 --> compile testing pass
Test environment and result as below:
+--------------+------------------+--------------+-------------------+
| Environment | dpdk_compile_ovs | dpdk_compile | dpdk_compile_spdk |
+==============+==================+==============+===================+
| Ubuntu 18.04 | PASS | PASS | PASS |
+--------------+------------------+--------------+-------------------+
| FreeBSD 11.2 | | PASS | PASS |
+--------------+------------------+--------------+-------------------+
Ubuntu 18.04
Kernel: 4.15.0-generic
GCC: 7.4
FreeBSD 11.2
Kernel: 11.2
GCC: 8.3
https://lab.dpdk.org/results/dashboard/tarballs/6583/
UNH-IOL DPDK Performance Test Lab
To manage your email subscriptions visit:
https://lab.dpdk.org/results/dashboard/preferences/subscriptions/
More information about the test-report
mailing list