[dpdk-test-report] |SUCCESS| pw61446 [PATCH] [v2] net/ice: cleanup RSS/FDIR profile when device init
dpdklab at iol.unh.edu
dpdklab at iol.unh.edu
Fri Oct 18 05:44:46 CEST 2019
Test-Label: iol-compilation
Test-Status: SUCCESS
http://dpdk.org/patch/61446
_Compile Testing PASS_
Submitter: Ying Wang <ying.a.wang at intel.com>
Date: Thursday, October 17 2019 18:31:59
DPDK git baseline: Repo:dpdk-next-net-intel
Branch: master
CommitID:aba180bf9f870ce2e591ea7f52e3d23811842494
61446 --> compile testing pass
Test environment and result as below:
+--------------+-------------------+--------------+------------------+
| Environment | dpdk_compile_spdk | dpdk_compile | dpdk_compile_ovs |
+==============+===================+==============+==================+
| Ubuntu 18.04 | PASS | PASS | PASS |
+--------------+-------------------+--------------+------------------+
| FreeBSD 11.2 | PASS | PASS | |
+--------------+-------------------+--------------+------------------+
| CentOS 8 | | PASS | PASS |
+--------------+-------------------+--------------+------------------+
Ubuntu 18.04
Kernel: 4.15.0-generic
GCC: 7.4
FreeBSD 11.2
Kernel: 11.2
GCC: 8.3
CentOS 8
Kernel: 4.18.0.el8_0
GCC: 8.2
https://lab.dpdk.org/results/dashboard/patchsets/8014/
UNH-IOL DPDK Performance Test Lab
To manage your email subscriptions visit:
https://lab.dpdk.org/results/dashboard/preferences/subscriptions/
More information about the test-report
mailing list