[dpdk-test-report] |SUCCESS| pw61749 [PATCH] ethdev: fix include for ether header file
dpdklab at iol.unh.edu
dpdklab at iol.unh.edu
Wed Oct 23 18:28:43 CEST 2019
Test-Label: iol-compilation
Test-Status: SUCCESS
http://dpdk.org/patch/61749
_Compile Testing PASS_
Submitter: Power, Ciara <ciara.power at intel.com>
Date: Wednesday, October 23 2019 12:53:00
DPDK git baseline: Repo:dpdk
Branch: master
CommitID:08be0e0b68a5dedb1186b19dd61706da96a9ef19
61749 --> compile testing pass
Test environment and result as below:
+--------------+--------------+-------------------+------------------+
| Environment | dpdk_compile | dpdk_compile_spdk | dpdk_compile_ovs |
+==============+==============+===================+==================+
| Ubuntu 18.04 | PASS | PASS | PASS |
+--------------+--------------+-------------------+------------------+
| FreeBSD 11.2 | PASS | PASS | |
+--------------+--------------+-------------------+------------------+
| CentOS 8 | PASS | | PASS |
+--------------+--------------+-------------------+------------------+
Ubuntu 18.04
Kernel: 4.15.0-generic
GCC: 7.4
FreeBSD 11.2
Kernel: 11.2
GCC: 8.3
CentOS 8
Kernel: 4.18.0.el8_0
GCC: 8.2
https://lab.dpdk.org/results/dashboard/patchsets/8101/
UNH-IOL DPDK Performance Test Lab
To manage your email subscriptions visit:
https://lab.dpdk.org/results/dashboard/preferences/subscriptions/
More information about the test-report
mailing list