[dpdk-test-report] |SUCCESS| pw61840-61852 [PATCH] [v9, 01/13] vhost: add packed ring indexes increasing function
dpdklab at iol.unh.edu
dpdklab at iol.unh.edu
Thu Oct 24 11:15:24 CEST 2019
Test-Label: iol-compilation
Test-Status: SUCCESS
http://dpdk.org/patch/61840
_Compile Testing PASS_
Submitter: Liu, Yong <yong.liu at intel.com>
Date: Thursday, October 24 2019 16:08:20
DPDK git baseline: Repo:dpdk-next-virtio
Branch: master
CommitID:5005bcda71239fa25b48811dff64d6050d3bc4a3
61840-61852 --> compile testing pass
Test environment and result as below:
+--------------+--------------+-------------------+------------------+
| Environment | dpdk_compile | dpdk_compile_spdk | dpdk_compile_ovs |
+==============+==============+===================+==================+
| Ubuntu 18.04 | PASS | PASS | PASS |
+--------------+--------------+-------------------+------------------+
| FreeBSD 11.2 | PASS | PASS | |
+--------------+--------------+-------------------+------------------+
| CentOS 8 | PASS | | PASS |
+--------------+--------------+-------------------+------------------+
Ubuntu 18.04
Kernel: 4.15.0-generic
GCC: 7.4
FreeBSD 11.2
Kernel: 11.2
GCC: 8.3
CentOS 8
Kernel: 4.18.0.el8_0
GCC: 8.2
https://lab.dpdk.org/results/dashboard/patchsets/8120/
UNH-IOL DPDK Performance Test Lab
To manage your email subscriptions visit:
https://lab.dpdk.org/results/dashboard/preferences/subscriptions/
More information about the test-report
mailing list