[dpdk-test-report] |SUCCESS| pw61797-61798 [PATCH] [1/2] net/ixgbe: add ptype parse for aarch64 vector PMD
dpdklab at iol.unh.edu
dpdklab at iol.unh.edu
Thu Oct 24 13:21:11 CEST 2019
Test-Label: iol-compilation
Test-Status: SUCCESS
http://dpdk.org/patch/61797
_Compile Testing PASS_
Submitter: Ruifeng Wang <ruifeng.wang at arm.com>
Date: Thursday, October 24 2019 02:58:02
DPDK git baseline: Repo:dpdk
Branch: master
CommitID:ae783b42c4935d013ccec3f4625c51ec9ed234be
61797-61798 --> compile testing pass
Test environment and result as below:
+--------------+--------------+------------------+-------------------+
| Environment | dpdk_compile | dpdk_compile_ovs | dpdk_compile_spdk |
+==============+==============+==================+===================+
| FreeBSD 11.2 | PASS | | PASS |
+--------------+--------------+------------------+-------------------+
| Ubuntu 18.04 | PASS | PASS | PASS |
+--------------+--------------+------------------+-------------------+
| CentOS 8 | PASS | PASS | |
+--------------+--------------+------------------+-------------------+
FreeBSD 11.2
Kernel: 11.2
GCC: 8.3
Ubuntu 18.04
Kernel: 4.15.0-generic
GCC: 7.4
CentOS 8
Kernel: 4.18.0.el8_0
GCC: 8.2
https://lab.dpdk.org/results/dashboard/patchsets/8114/
UNH-IOL DPDK Performance Test Lab
To manage your email subscriptions visit:
https://lab.dpdk.org/results/dashboard/preferences/subscriptions/
More information about the test-report
mailing list