[dpdk-test-report] |SUCCESS| pw61900 [PATCH] [v2] net/mlx5: change default flow engine to DV
dpdklab at iol.unh.edu
dpdklab at iol.unh.edu
Thu Oct 24 19:43:00 CEST 2019
Test-Label: iol-compilation
Test-Status: SUCCESS
http://dpdk.org/patch/61900
_Compile Testing PASS_
Submitter: Dekel Peled <dekelp at mellanox.com>
Date: Thursday, October 24 2019 12:52:53
DPDK git baseline: Repo:dpdk
Branch: master
CommitID:ae783b42c4935d013ccec3f4625c51ec9ed234be
61900 --> compile testing pass
Test environment and result as below:
+--------------+--------------+-------------------+------------------+
| Environment | dpdk_compile | dpdk_compile_spdk | dpdk_compile_ovs |
+==============+==============+===================+==================+
| Ubuntu 18.04 | PASS | PASS | PASS |
+--------------+--------------+-------------------+------------------+
| FreeBSD 11.2 | PASS | PASS | |
+--------------+--------------+-------------------+------------------+
| CentOS 8 | PASS | | PASS |
+--------------+--------------+-------------------+------------------+
Ubuntu 18.04
Kernel: 4.15.0-generic
GCC: 7.4
FreeBSD 11.2
Kernel: 11.2
GCC: 8.3
CentOS 8
Kernel: 4.18.0.el8_0
GCC: 8.2
https://lab.dpdk.org/results/dashboard/patchsets/8132/
UNH-IOL DPDK Performance Test Lab
To manage your email subscriptions visit:
https://lab.dpdk.org/results/dashboard/preferences/subscriptions/
More information about the test-report
mailing list