[dpdk-test-report] |SUCCESS| pw62102 [PATCH] [v2] net/ena: fix false indication of bad L4 Rx csums
dpdklab at iol.unh.edu
dpdklab at iol.unh.edu
Mon Oct 28 12:42:13 CET 2019
Test-Label: iol-compilation
Test-Status: SUCCESS
http://dpdk.org/patch/62102
_Compile Testing PASS_
Submitter: Michal Krawczyk <mk at semihalf.com>
Date: Monday, October 28 2019 10:23:33
DPDK git baseline: Repo:dpdk
Branch: master
CommitID:b28f28ae80e5c9aac28fbc3bf0842f22dc020f31
62102 --> compile testing pass
Test environment and result as below:
+--------------+------------------+-------------------+--------------+
| Environment | dpdk_compile_ovs | dpdk_compile_spdk | dpdk_compile |
+==============+==================+===================+==============+
| Ubuntu 18.04 | PASS | PASS | PASS |
+--------------+------------------+-------------------+--------------+
| CentOS 8 | PASS | | PASS |
+--------------+------------------+-------------------+--------------+
| FreeBSD 11.2 | | PASS | PASS |
+--------------+------------------+-------------------+--------------+
Ubuntu 18.04
Kernel: 4.15.0-generic
GCC: 7.4
CentOS 8
Kernel: 4.18.0.el8_0
GCC: 8.2
FreeBSD 11.2
Kernel: 11.2
GCC: 8.3
https://lab.dpdk.org/results/dashboard/patchsets/8191/
UNH-IOL DPDK Performance Test Lab
To manage your email subscriptions visit:
https://lab.dpdk.org/results/dashboard/preferences/subscriptions/
More information about the test-report
mailing list