[dpdk-test-report] |SUCCESS| pw62272-62274 [PATCH] [1/3] net/enic: fix whitespaces in log macros
dpdklab at iol.unh.edu
dpdklab at iol.unh.edu
Thu Oct 31 17:11:14 CET 2019
Test-Label: iol-compilation
Test-Status: SUCCESS
http://dpdk.org/patch/62272
_Compile Testing PASS_
Submitter: Hyong Youb Kim <hyonkim at cisco.com>
Date: Thursday, October 31 2019 05:36:21
DPDK git baseline: Repo:dpdk
Branch: master
CommitID:19397c7bf2545e6adab41b657a1f1da3c7344e7b
62272-62274 --> compile testing pass
Test environment and result as below:
+--------------+--------------+------------------+-------------------+
| Environment | dpdk_compile | dpdk_compile_ovs | dpdk_compile_spdk |
+==============+==============+==================+===================+
| FreeBSD 11.2 | PASS | | PASS |
+--------------+--------------+------------------+-------------------+
| Ubuntu 18.04 | PASS | PASS | PASS |
+--------------+--------------+------------------+-------------------+
| CentOS 8 | PASS | PASS | |
+--------------+--------------+------------------+-------------------+
FreeBSD 11.2
Kernel: 11.2
GCC: 8.3
Ubuntu 18.04
Kernel: 4.15.0-generic
GCC: 7.4
CentOS 8
Kernel: 4.18.0.el8_0
GCC: 8.2
https://lab.dpdk.org/results/dashboard/patchsets/8260/
UNH-IOL DPDK Performance Test Lab
To manage your email subscriptions visit:
https://lab.dpdk.org/results/dashboard/preferences/subscriptions/
More information about the test-report
mailing list