[dpdk-test-report] |SUCCESS| pw68468 [PATCH] [v4] net/ixgbe: fix resource leak after thread exits normally
dpdklab at iol.unh.edu
dpdklab at iol.unh.edu
Wed Apr 15 16:55:35 CEST 2020
Test-Label: iol-testing
Test-Status: SUCCESS
http://dpdk.org/patch/68468
_Testing PASS_
Submitter: Zhu, TaoX <taox.zhu at intel.com>
Date: Wednesday, April 15 2020 14:18:50
DPDK git baseline: Repo:dpdk-next-net-intel
Branch: master
CommitID:01fe48191472e2112d14e1d99909106d68e6771e
68468 --> testing pass
Test environment and result as below:
+---------------------+--------------------+-------------------+------------------+--------------+----------------+
| Environment | dpdk_meson_compile | dpdk_compile_spdk | dpdk_compile_ovs | dpdk_compile | dpdk_unit_test |
+=====================+====================+===================+==================+==============+================+
| Windows Server 2019 | PASS | SKIPPED | SKIPPED | SKIPPED | SKIPPED |
+---------------------+--------------------+-------------------+------------------+--------------+----------------+
| CentOS 8 | PASS | PASS | PASS | PASS | SKIPPED |
+---------------------+--------------------+-------------------+------------------+--------------+----------------+
| Fedora 31 | PASS | PASS | PASS | PASS | SKIPPED |
+---------------------+--------------------+-------------------+------------------+--------------+----------------+
| Ubuntu 18.04 | PASS | PASS | PASS | PASS | PASS |
+---------------------+--------------------+-------------------+------------------+--------------+----------------+
| openSUSE Leap 15 | PASS | PASS | PASS | PASS | SKIPPED |
+---------------------+--------------------+-------------------+------------------+--------------+----------------+
| FreeBSD 11.2 | PASS | PASS | SKIPPED | PASS | SKIPPED |
+---------------------+--------------------+-------------------+------------------+--------------+----------------+
| Arch Linux | PASS | SKIPPED | PASS | PASS | SKIPPED |
+---------------------+--------------------+-------------------+------------------+--------------+----------------+
Windows Server 2019
Kernel: 10.0
Compiler: clang 9.0
CentOS 8
Kernel: 4.18.0.el8_0
Compiler: gcc 8.3.1
Fedora 31
Kernel: 5.3.16
Compiler: gcc 9.2.1
Ubuntu 18.04
Kernel: 4.15.0-generic
Compiler: gcc 7.4
openSUSE Leap 15
Kernel: 4.12.14
Compiler: gcc 7.4.1
FreeBSD 11.2
Kernel: 11.2
Compiler: gcc 8.3
Arch Linux
Kernel: latest
Compiler: gcc latest
To view detailed results, visit:
https://lab.dpdk.org/results/dashboard/patchsets/10440/
UNH-IOL DPDK Community Lab
To manage your email subscriptions, visit:
https://lab.dpdk.org/results/dashboard/preferences/subscriptions/
More information about the test-report
mailing list