[dpdk-test-report] |SUCCESS| pw69386 [PATCH] ethdev: check for Rx RSS distribution and RSS hash
dpdklab at iol.unh.edu
dpdklab at iol.unh.edu
Mon Apr 27 19:44:33 CEST 2020
Test-Label: iol-testing
Test-Status: SUCCESS
http://dpdk.org/patch/69386
_Testing PASS_
Submitter: Lijun Ou <oulijun at huawei.com>
Date: Monday, April 27 2020 12:34:49
DPDK git baseline: Repo:dpdk
Branch: master
CommitID:97fbfe5a9526c6ef6e5583330161f1ea4add22bd
69386 --> testing pass
Test environment and result as below:
+---------------------+--------------------+-------------------+----------------+------------------+--------------+
| Environment | dpdk_meson_compile | dpdk_compile_spdk | dpdk_unit_test | dpdk_compile_ovs | dpdk_compile |
+=====================+====================+===================+================+==================+==============+
| Windows Server 2019 | PASS | SKIPPED | SKIPPED | SKIPPED | SKIPPED |
+---------------------+--------------------+-------------------+----------------+------------------+--------------+
| Fedora 31 | PASS | PASS | SKIPPED | PASS | PASS |
+---------------------+--------------------+-------------------+----------------+------------------+--------------+
| CentOS 8 | PASS | PASS | SKIPPED | PASS | PASS |
+---------------------+--------------------+-------------------+----------------+------------------+--------------+
| Ubuntu 18.04 | PASS | PASS | PASS | PASS | PASS |
+---------------------+--------------------+-------------------+----------------+------------------+--------------+
| openSUSE Leap 15 | PASS | PASS | SKIPPED | PASS | PASS |
+---------------------+--------------------+-------------------+----------------+------------------+--------------+
| Arch Linux | PASS | SKIPPED | SKIPPED | PASS | PASS |
+---------------------+--------------------+-------------------+----------------+------------------+--------------+
| FreeBSD 11.2 | SKIPPED | PASS | SKIPPED | SKIPPED | PASS |
+---------------------+--------------------+-------------------+----------------+------------------+--------------+
Windows Server 2019
Kernel: 10.0
Compiler: clang 9.0
Fedora 31
Kernel: 5.3.16
Compiler: gcc 9.2.1
CentOS 8
Kernel: 4.18.0.el8_0
Compiler: gcc 8.3.1
Ubuntu 18.04
Kernel: 4.15.0-generic
Compiler: gcc 7.4
openSUSE Leap 15
Kernel: 4.12.14
Compiler: gcc 7.4.1
Arch Linux
Kernel: latest
Compiler: gcc latest
FreeBSD 11.2
Kernel: 11.2
Compiler: gcc 8.3
To view detailed results, visit:
https://lab.dpdk.org/results/dashboard/patchsets/10727/
UNH-IOL DPDK Community Lab
To manage your email subscriptions, visit:
https://lab.dpdk.org/results/dashboard/preferences/subscriptions/
More information about the test-report
mailing list