[dpdk-test-report] |SUCCESS| pw85146 [PATCH] net/bnxt: fix doorbell write ordering

dpdklab at iol.unh.edu dpdklab at iol.unh.edu
Mon Dec 14 21:56:24 CET 2020


Test-Label: iol-testing
Test-Status: SUCCESS
http://dpdk.org/patch/85146

_Testing PASS_

Submitter: Lance Richardson <lance.richardson at broadcom.com>
Date: Monday, December 14 2020 18:51:44 
DPDK git baseline: Repo:dpdk-next-net-brcm
  Branch: master
  CommitID:8b8dc3f783ffd8d7c40afcec332c53eb86a9afd6

85146 --> testing pass

Test environment and result as below:

+---------------------+--------------------+----------------+-------------------+
|     Environment     | dpdk_meson_compile | dpdk_unit_test | dpdk_compile_spdk |
+=====================+====================+================+===================+
| Windows Server 2019 | PASS               | SKIPPED        | SKIPPED           |
+---------------------+--------------------+----------------+-------------------+
| FreeBSD 11.2        | PASS               | SKIPPED        | SKIPPED           |
+---------------------+--------------------+----------------+-------------------+
| CentOS 8            | PASS               | SKIPPED        | SKIPPED           |
+---------------------+--------------------+----------------+-------------------+
| Fedora 31           | PASS               | SKIPPED        | SKIPPED           |
+---------------------+--------------------+----------------+-------------------+
| openSUSE Leap 15    | PASS               | SKIPPED        | SKIPPED           |
+---------------------+--------------------+----------------+-------------------+
| Arch Linux          | PASS               | SKIPPED        | SKIPPED           |
+---------------------+--------------------+----------------+-------------------+
| Ubuntu 18.04        | PASS               | PASS           | PASS              |
+---------------------+--------------------+----------------+-------------------+

Windows Server 2019
	Kernel: 10.0
	Compiler: clang 9.0

FreeBSD 11.2
	Kernel: 11.2
	Compiler: gcc 8.3

CentOS 8
	Kernel: 4.18.0.el8_0
	Compiler: gcc 8.3.1

Fedora 31
	Kernel: 5.3.16
	Compiler: gcc 9.2.1

openSUSE Leap 15
	Kernel: 4.12.14
	Compiler: gcc 7.4.1

Arch Linux
	Kernel: latest
	Compiler: gcc latest

Ubuntu 18.04
	Kernel: 4.15.0-generic
	Compiler: gcc 7.5

To view detailed results, visit:
https://lab.dpdk.org/results/dashboard/patchsets/14813/

UNH-IOL DPDK Community Lab

To manage your email subscriptions, visit: 
https://lab.dpdk.org/results/dashboard/preferences/subscriptions/


More information about the test-report mailing list