[dpdk-test-report] |SUCCESS| pw85311-85314 [PATCH] [17/17] common/mlx5: remove doorbell allocation API

dpdklab at iol.unh.edu dpdklab at iol.unh.edu
Thu Dec 17 16:18:58 CET 2020


Test-Label: iol-testing
Test-Status: SUCCESS
http://dpdk.org/patch/85314

_Testing PASS_

Submitter: Michael Baum <michaelba at nvidia.com>
Date: Thursday, December 17 2020 11:44:35 
DPDK git baseline: Repo:dpdk
  Branch: master
  CommitID:e682b020840a9035beacd24cba4f6baabcfaf5ff

85311-85314 --> testing pass

Test environment and result as below:

+---------------------+----------------------+-------------------+--------------------+----------------+----------+
|     Environment     | dpdk_mingw64_compile | dpdk_compile_spdk | dpdk_meson_compile | dpdk_unit_test | abi_test |
+=====================+======================+===================+====================+================+==========+
| Windows Server 2019 | PASS                 | SKIPPED           | PASS               | SKIPPED        | SKIPPED  |
+---------------------+----------------------+-------------------+--------------------+----------------+----------+
| Fedora 31           | SKIPPED              | PASS              | PASS               | SKIPPED        | SKIPPED  |
+---------------------+----------------------+-------------------+--------------------+----------------+----------+
| Ubuntu 18.04        | SKIPPED              | PASS              | PASS               | PASS           | PASS     |
+---------------------+----------------------+-------------------+--------------------+----------------+----------+
| CentOS 8            | SKIPPED              | SKIPPED           | PASS               | SKIPPED        | SKIPPED  |
+---------------------+----------------------+-------------------+--------------------+----------------+----------+
| FreeBSD 11.2        | SKIPPED              | SKIPPED           | PASS               | SKIPPED        | SKIPPED  |
+---------------------+----------------------+-------------------+--------------------+----------------+----------+
| openSUSE Leap 15    | SKIPPED              | SKIPPED           | PASS               | SKIPPED        | SKIPPED  |
+---------------------+----------------------+-------------------+--------------------+----------------+----------+
| Arch Linux          | SKIPPED              | SKIPPED           | PASS               | SKIPPED        | SKIPPED  |
+---------------------+----------------------+-------------------+--------------------+----------------+----------+

Windows Server 2019
	Kernel: 10.0
	Compiler: clang 9.0

Fedora 31
	Kernel: 5.3.16
	Compiler: gcc 9.2.1

Ubuntu 18.04
	Kernel: 4.15.0-generic
	Compiler: gcc 7.5

CentOS 8
	Kernel: 4.18.0.el8_0
	Compiler: gcc 8.3.1

FreeBSD 11.2
	Kernel: 11.2
	Compiler: gcc 8.3

openSUSE Leap 15
	Kernel: 4.12.14
	Compiler: gcc 7.4.1

Arch Linux
	Kernel: latest
	Compiler: gcc latest

To view detailed results, visit:
https://lab.dpdk.org/results/dashboard/patchsets/14855/

UNH-IOL DPDK Community Lab

To manage your email subscriptions, visit: 
https://lab.dpdk.org/results/dashboard/preferences/subscriptions/


More information about the test-report mailing list