[dpdk-test-report] |SUCCESS| [GIT MASTER] 6015bb68c1fcab54080b483f02bc2c2f1ed8aaaf
dpdklab at iol.unh.edu
dpdklab at iol.unh.edu
Thu Dec 17 17:42:03 CET 2020
_Testing PASS_
Branch: dpdk-next-net-mlx
6015bb68c1fcab54080b483f02bc2c2f1ed8aaaf --> testing pass
Test environment and result as below:
+---------------------+----------------------+--------------------+-------------------+----------------+----------+
| Environment | dpdk_mingw64_compile | dpdk_meson_compile | dpdk_compile_spdk | dpdk_unit_test | abi_test |
+=====================+======================+====================+===================+================+==========+
| Windows Server 2019 | PASS | PASS | SKIPPED | SKIPPED | SKIPPED |
+---------------------+----------------------+--------------------+-------------------+----------------+----------+
| FreeBSD 11.2 | SKIPPED | PASS | SKIPPED | SKIPPED | SKIPPED |
+---------------------+----------------------+--------------------+-------------------+----------------+----------+
| CentOS 8 | SKIPPED | PASS | SKIPPED | SKIPPED | SKIPPED |
+---------------------+----------------------+--------------------+-------------------+----------------+----------+
| Fedora 31 | SKIPPED | PASS | PASS | SKIPPED | SKIPPED |
+---------------------+----------------------+--------------------+-------------------+----------------+----------+
| openSUSE Leap 15 | SKIPPED | PASS | SKIPPED | SKIPPED | SKIPPED |
+---------------------+----------------------+--------------------+-------------------+----------------+----------+
| Ubuntu 18.04 | SKIPPED | PASS | PASS | PASS | PASS |
+---------------------+----------------------+--------------------+-------------------+----------------+----------+
| Arch Linux | SKIPPED | PASS | SKIPPED | SKIPPED | SKIPPED |
+---------------------+----------------------+--------------------+-------------------+----------------+----------+
Windows Server 2019
Kernel: 10.0
Compiler: clang 9.0
FreeBSD 11.2
Kernel: 11.2
Compiler: gcc 8.3
CentOS 8
Kernel: 4.18.0.el8_0
Compiler: gcc 8.3.1
Fedora 31
Kernel: 5.3.16
Compiler: gcc 9.2.1
openSUSE Leap 15
Kernel: 4.12.14
Compiler: gcc 7.4.1
Ubuntu 18.04
Kernel: 4.15.0-generic
Compiler: gcc 7.5
Arch Linux
Kernel: latest
Compiler: gcc latest
To view detailed results, visit:
https://lab.dpdk.org/results/dashboard/tarballs/12973/
UNH-IOL DPDK Community Lab
To manage your email subscriptions, visit:
https://lab.dpdk.org/results/dashboard/preferences/subscriptions/
More information about the test-report
mailing list