[dpdk-test-report] |SUCCESS| [GIT MASTER] 335e36fa417998b4bb43026487b7d4f5454de9b8
dpdklab at iol.unh.edu
dpdklab at iol.unh.edu
Thu Dec 17 23:18:39 CET 2020
_Testing PASS_
Branch: dpdk-next-net-brcm
335e36fa417998b4bb43026487b7d4f5454de9b8 --> testing pass
Test environment and result as below:
+---------------------+----------------------+--------------------+----------------+----------+
| Environment | dpdk_mingw64_compile | dpdk_meson_compile | dpdk_unit_test | abi_test |
+=====================+======================+====================+================+==========+
| Windows Server 2019 | PASS | PASS | SKIPPED | SKIPPED |
+---------------------+----------------------+--------------------+----------------+----------+
| FreeBSD 11.2 | SKIPPED | PASS | SKIPPED | SKIPPED |
+---------------------+----------------------+--------------------+----------------+----------+
| CentOS 8 | SKIPPED | PASS | SKIPPED | SKIPPED |
+---------------------+----------------------+--------------------+----------------+----------+
| Fedora 31 | SKIPPED | PASS | SKIPPED | SKIPPED |
+---------------------+----------------------+--------------------+----------------+----------+
| openSUSE Leap 15 | SKIPPED | PASS | SKIPPED | SKIPPED |
+---------------------+----------------------+--------------------+----------------+----------+
| Ubuntu 18.04 | SKIPPED | SKIPPED | PASS | PASS |
+---------------------+----------------------+--------------------+----------------+----------+
Windows Server 2019
Kernel: 10.0
Compiler: clang 9.0
FreeBSD 11.2
Kernel: 11.2
Compiler: gcc 8.3
CentOS 8
Kernel: 4.18.0.el8_0
Compiler: gcc 8.3.1
Fedora 31
Kernel: 5.3.16
Compiler: gcc 9.2.1
openSUSE Leap 15
Kernel: 4.12.14
Compiler: gcc 7.4.1
Ubuntu 18.04
Kernel: 4.15.0-generic
Compiler: gcc 7.5
To view detailed results, visit:
https://lab.dpdk.org/results/dashboard/tarballs/12978/
UNH-IOL DPDK Community Lab
To manage your email subscriptions, visit:
https://lab.dpdk.org/results/dashboard/preferences/subscriptions/
More information about the test-report
mailing list