[dpdk-test-report] |SUCCESS| pw65492 [PATCH] devtools: add fixes column to git-log-fixes
dpdklab at iol.unh.edu
dpdklab at iol.unh.edu
Mon Feb 3 17:36:42 CET 2020
Test-Label: iol-testing
Test-Status: SUCCESS
http://dpdk.org/patch/65492
_Testing PASS_
Submitter: Kevin Traynor <ktraynor at redhat.com>
Date: Monday, February 03 2020 15:44:26
DPDK git baseline: Repo:dpdk
Branch: master
CommitID:c465e6b94be343303303f26b95f3c2ae4969063e
65492 --> testing pass
Test environment and result as below:
+---------------------+-------------------+--------------------+--------------+------------------+----------------+
| Environment | dpdk_compile_spdk | dpdk_meson_compile | dpdk_compile | dpdk_compile_ovs | dpdk_unit_test |
+=====================+===================+====================+==============+==================+================+
| FreeBSD 11.2 | PASS | PASS | PASS | SKIPPED | SKIPPED |
+---------------------+-------------------+--------------------+--------------+------------------+----------------+
| Ubuntu 18.04 | PASS | PASS | PASS | PASS | PASS |
+---------------------+-------------------+--------------------+--------------+------------------+----------------+
| Windows Server 2019 | SKIPPED | PASS | SKIPPED | SKIPPED | SKIPPED |
+---------------------+-------------------+--------------------+--------------+------------------+----------------+
| Fedora 31 | SKIPPED | PASS | PASS | PASS | SKIPPED |
+---------------------+-------------------+--------------------+--------------+------------------+----------------+
| openSUSE Leap 15 | SKIPPED | PASS | PASS | PASS | SKIPPED |
+---------------------+-------------------+--------------------+--------------+------------------+----------------+
| CentOS 8 | SKIPPED | PASS | PASS | PASS | SKIPPED |
+---------------------+-------------------+--------------------+--------------+------------------+----------------+
| Arch Linux | SKIPPED | PASS | PASS | PASS | SKIPPED |
+---------------------+-------------------+--------------------+--------------+------------------+----------------+
FreeBSD 11.2
Kernel: 11.2
GCC: 8.3
Ubuntu 18.04
Kernel: 4.15.0-generic
GCC: 7.4
Windows Server 2019
Kernel: 10.0
GCC: 9.0
Fedora 31
Kernel: 5.3.16
GCC: 9.2.1
openSUSE Leap 15
Kernel: 4.12.14
GCC: 7.4.1
CentOS 8
Kernel: 4.18.0.el8_0
GCC: 8.3.1
Arch Linux
Kernel: latest
GCC: latest
To view detailed results, visit:
https://lab.dpdk.org/results/dashboard/patchsets/9465/
UNH-IOL DPDK Community Lab
To manage your email subscriptions, visit:
https://lab.dpdk.org/results/dashboard/preferences/subscriptions/
More information about the test-report
mailing list