[dpdk-test-report] |SUCCESS| pw65506 [PATCH] [v1, 1/1] examples/kni: fix SIGTERM signal handling
dpdklab at iol.unh.edu
dpdklab at iol.unh.edu
Wed Feb 5 21:25:18 CET 2020
Test-Label: iol-testing
Test-Status: SUCCESS
http://dpdk.org/patch/65506
_Testing PASS_
Submitter: Vamsi Krishna Attunuru <vattunuru at marvell.com>
Date: Tuesday, February 04 2020 08:42:14
DPDK git baseline: Repo:dpdk
Branch: master
CommitID:c465e6b94be343303303f26b95f3c2ae4969063e
65506 --> testing pass
Test environment and result as below:
+---------------------+--------------------+-------------------+------------------+----------------+--------------+
| Environment | dpdk_meson_compile | dpdk_compile_spdk | dpdk_compile_ovs | dpdk_unit_test | dpdk_compile |
+=====================+====================+===================+==================+================+==============+
| Windows Server 2019 | PASS | SKIPPED | SKIPPED | SKIPPED | SKIPPED |
+---------------------+--------------------+-------------------+------------------+----------------+--------------+
| Ubuntu 18.04 | PASS | PASS | PASS | PASS | PASS |
+---------------------+--------------------+-------------------+------------------+----------------+--------------+
| Fedora 31 | PASS | SKIPPED | PASS | SKIPPED | PASS |
+---------------------+--------------------+-------------------+------------------+----------------+--------------+
| openSUSE Leap 15 | PASS | SKIPPED | PASS | SKIPPED | PASS |
+---------------------+--------------------+-------------------+------------------+----------------+--------------+
| Arch Linux | PASS | SKIPPED | PASS | SKIPPED | PASS |
+---------------------+--------------------+-------------------+------------------+----------------+--------------+
| FreeBSD 11.2 | PASS | PASS | SKIPPED | SKIPPED | PASS |
+---------------------+--------------------+-------------------+------------------+----------------+--------------+
Windows Server 2019
Kernel: 10.0
Compiler: clang 9.0
Ubuntu 18.04
Kernel: 4.15.0-generic
Compiler: gcc 7.4
Fedora 31
Kernel: 5.3.16
Compiler: gcc 9.2.1
openSUSE Leap 15
Kernel: 4.12.14
Compiler: gcc 7.4.1
Arch Linux
Kernel: latest
Compiler: gcc latest
FreeBSD 11.2
Kernel: 11.2
Compiler: gcc 8.3
To view detailed results, visit:
https://lab.dpdk.org/results/dashboard/patchsets/9474/
UNH-IOL DPDK Community Lab
To manage your email subscriptions, visit:
https://lab.dpdk.org/results/dashboard/preferences/subscriptions/
More information about the test-report
mailing list