[dpdk-test-report] |SUCCESS| pw65615 [PATCH] [v2] app/test: add test for mbuf with pinned external buffer
dpdklab at iol.unh.edu
dpdklab at iol.unh.edu
Thu Feb 6 11:41:41 CET 2020
Test-Label: iol-testing
Test-Status: SUCCESS
http://dpdk.org/patch/65615
_Testing PASS_
Submitter: Slava Ovsiienko <viacheslavo at mellanox.com>
Date: Thursday, February 06 2020 09:49:20
DPDK git baseline: Repo:dpdk
Branch: master
CommitID:c6420a36328b9c6b71770aaa982abacd0e2440b8
65615 --> testing pass
Test environment and result as below:
+---------------------+--------------+--------------------+------------------+-------------------+----------------+
| Environment | dpdk_compile | dpdk_meson_compile | dpdk_compile_ovs | dpdk_compile_spdk | dpdk_unit_test |
+=====================+==============+====================+==================+===================+================+
| FreeBSD 11.2 | PASS | PASS | SKIPPED | PASS | SKIPPED |
+---------------------+--------------+--------------------+------------------+-------------------+----------------+
| openSUSE Leap 15 | PASS | PASS | PASS | SKIPPED | SKIPPED |
+---------------------+--------------+--------------------+------------------+-------------------+----------------+
| Arch Linux | PASS | PASS | PASS | SKIPPED | SKIPPED |
+---------------------+--------------+--------------------+------------------+-------------------+----------------+
| Ubuntu 18.04 | PASS | PASS | PASS | PASS | PASS |
+---------------------+--------------+--------------------+------------------+-------------------+----------------+
| CentOS 8 | PASS | PASS | PASS | PASS | SKIPPED |
+---------------------+--------------+--------------------+------------------+-------------------+----------------+
| Fedora 31 | PASS | PASS | PASS | PASS | SKIPPED |
+---------------------+--------------+--------------------+------------------+-------------------+----------------+
| Windows Server 2019 | SKIPPED | PASS | SKIPPED | SKIPPED | SKIPPED |
+---------------------+--------------+--------------------+------------------+-------------------+----------------+
FreeBSD 11.2
Kernel: 11.2
Compiler: gcc 8.3
openSUSE Leap 15
Kernel: 4.12.14
Compiler: gcc 7.4.1
Arch Linux
Kernel: latest
Compiler: gcc latest
Ubuntu 18.04
Kernel: 4.15.0-generic
Compiler: gcc 7.4
CentOS 8
Kernel: 4.18.0.el8_0
Compiler: gcc 8.3.1
Fedora 31
Kernel: 5.3.16
Compiler: gcc 9.2.1
Windows Server 2019
Kernel: 10.0
Compiler: clang 9.0
To view detailed results, visit:
https://lab.dpdk.org/results/dashboard/patchsets/9510/
UNH-IOL DPDK Community Lab
To manage your email subscriptions, visit:
https://lab.dpdk.org/results/dashboard/preferences/subscriptions/
More information about the test-report
mailing list