[dpdk-test-report] |SUCCESS| pw64175-64176 [PATCH] [1/2] net/qede: enhance receive data path CPU utilization

dpdklab at iol.unh.edu dpdklab at iol.unh.edu
Thu Jan 2 19:52:11 CET 2020


Test-Label: iol-testing
Test-Status: SUCCESS
http://dpdk.org/patch/64175

_Testing PASS_

Submitter: Shahed Shaikh <shshaikh at marvell.com>
Date: Thursday, January 02 2020 17:59:02 
DPDK git baseline: Repo:dpdk
  Branch: master
  CommitID:2e088e6f94b773233c06440763c1be43d0d705b3

64175-64176 --> testing pass

Test environment and result as below:

+--------------+--------------------+-------------------+--------------+------------------+----------------+
| Environment  | dpdk_meson_compile | dpdk_compile_spdk | dpdk_compile | dpdk_compile_ovs | dpdk_unit_test |
+==============+====================+===================+==============+==================+================+
| Ubuntu 18.04 | PASS               | PASS              | PASS         | PASS             | PASS           |
+--------------+--------------------+-------------------+--------------+------------------+----------------+
| Fedora 31    | PASS               | SKIPPED           | PASS         | PASS             | SKIPPED        |
+--------------+--------------------+-------------------+--------------+------------------+----------------+
| CentOS 8     | PASS               | SKIPPED           | PASS         | PASS             | SKIPPED        |
+--------------+--------------------+-------------------+--------------+------------------+----------------+
| FreeBSD 11.2 | PASS               | PASS              | PASS         | SKIPPED          | SKIPPED        |
+--------------+--------------------+-------------------+--------------+------------------+----------------+

Ubuntu 18.04
	Kernel: 4.15.0-generic
	GCC: 7.4

Fedora 31
	Kernel: 5.3.16
	GCC: 9.2.1

CentOS 8
	Kernel: 4.18.0.el8_0
	GCC: 8.2

FreeBSD 11.2
	Kernel: 11.2
	GCC: 8.3

https://lab.dpdk.org/results/dashboard/patchsets/9044/

UNH-IOL DPDK Community Lab

To manage your email subscriptions visit: 
https://lab.dpdk.org/results/dashboard/preferences/subscriptions/


More information about the test-report mailing list