[dpdk-test-report] |SUCCESS| pw64322-64315 [PATCH] [01/11] net/hns3: support different numbered Rx and Tx queues
dpdklab at iol.unh.edu
dpdklab at iol.unh.edu
Thu Jan 9 05:31:48 CET 2020
Test-Label: iol-testing
Test-Status: SUCCESS
http://dpdk.org/patch/64322
_Testing PASS_
Submitter: Wei Hu (Xavier) <huwei013 at chinasoftinc.com>
Date: Thursday, January 09 2020 03:15:49
DPDK git baseline: Repo:dpdk-next-net
Branch: master
CommitID:c60f2c8041ab075a2c3dec5432350637cf8eb3db
64322-64315 --> testing pass
Test environment and result as below:
+------------------+--------------+------------------+-------------------+----------------+--------------------+
| Environment | dpdk_compile | dpdk_compile_ovs | dpdk_compile_spdk | dpdk_unit_test | dpdk_meson_compile |
+==================+==============+==================+===================+================+====================+
| FreeBSD 11.2 | PASS | SKIPPED | PASS | SKIPPED | PASS |
+------------------+--------------+------------------+-------------------+----------------+--------------------+
| Ubuntu 18.04 | PASS | PASS | PASS | PASS | PASS |
+------------------+--------------+------------------+-------------------+----------------+--------------------+
| openSUSE Leap 15 | PASS | PASS | SKIPPED | SKIPPED | PASS |
+------------------+--------------+------------------+-------------------+----------------+--------------------+
| Fedora 31 | PASS | PASS | SKIPPED | SKIPPED | PASS |
+------------------+--------------+------------------+-------------------+----------------+--------------------+
| CentOS 8 | PASS | PASS | SKIPPED | SKIPPED | PASS |
+------------------+--------------+------------------+-------------------+----------------+--------------------+
FreeBSD 11.2
Kernel: 11.2
GCC: 8.3
Ubuntu 18.04
Kernel: 4.15.0-generic
GCC: 7.4
openSUSE Leap 15
Kernel: 4.12.14
GCC: 7.4.1
Fedora 31
Kernel: 5.3.16
GCC: 9.2.1
CentOS 8
Kernel: 4.18.0.el8_0
GCC: 8.2
https://lab.dpdk.org/results/dashboard/patchsets/9100/
UNH-IOL DPDK Community Lab
To manage your email subscriptions visit:
https://lab.dpdk.org/results/dashboard/preferences/subscriptions/
More information about the test-report
mailing list