[dpdk-test-report] |SUCCESS| pw64367-64368 [PATCH] [1/2] build: fix libm detection in meson

dpdklab at iol.unh.edu dpdklab at iol.unh.edu
Thu Jan 9 14:46:18 CET 2020


Test-Label: iol-testing
Test-Status: SUCCESS
http://dpdk.org/patch/64367

_Testing PASS_

Submitter: David Marchand <david.marchand at redhat.com>
Date: Thursday, January 09 2020 12:59:15 
DPDK git baseline: Repo:dpdk
  Branch: master
  CommitID:10060dba6455461088d24e03d3cfeba639d53022

64367-64368 --> testing pass

Test environment and result as below:

+------------------+-------------------+--------------+------------------+----------------+--------------------+
|   Environment    | dpdk_compile_spdk | dpdk_compile | dpdk_compile_ovs | dpdk_unit_test | dpdk_meson_compile |
+==================+===================+==============+==================+================+====================+
| Ubuntu 18.04     | PASS              | PASS         | PASS             | PASS           | PASS               |
+------------------+-------------------+--------------+------------------+----------------+--------------------+
| FreeBSD 11.2     | PASS              | PASS         | SKIPPED          | SKIPPED        | PASS               |
+------------------+-------------------+--------------+------------------+----------------+--------------------+
| openSUSE Leap 15 | SKIPPED           | PASS         | PASS             | SKIPPED        | PASS               |
+------------------+-------------------+--------------+------------------+----------------+--------------------+
| Fedora 31        | SKIPPED           | PASS         | PASS             | SKIPPED        | PASS               |
+------------------+-------------------+--------------+------------------+----------------+--------------------+
| CentOS 8         | SKIPPED           | PASS         | PASS             | SKIPPED        | PASS               |
+------------------+-------------------+--------------+------------------+----------------+--------------------+

Ubuntu 18.04
	Kernel: 4.15.0-generic
	GCC: 7.4

FreeBSD 11.2
	Kernel: 11.2
	GCC: 8.3

openSUSE Leap 15
	Kernel: 4.12.14
	GCC: 7.4.1

Fedora 31
	Kernel: 5.3.16
	GCC: 9.2.1

CentOS 8
	Kernel: 4.18.0.el8_0
	GCC: 8.2

https://lab.dpdk.org/results/dashboard/patchsets/9111/

UNH-IOL DPDK Community Lab

To manage your email subscriptions visit: 
https://lab.dpdk.org/results/dashboard/preferences/subscriptions/


More information about the test-report mailing list