[dpdk-test-report] |SUCCESS| pw64432-64436 [PATCH] [v3, 1/7] net/ixgbe: avoid multpile definitions of 'bool'
dpdklab at iol.unh.edu
dpdklab at iol.unh.edu
Fri Jan 10 22:34:53 CET 2020
Test-Label: iol-testing
Test-Status: SUCCESS
http://dpdk.org/patch/64432
_Testing PASS_
Submitter: Dharmik Thakkar <dharmik.thakkar at arm.com>
Date: Friday, January 10 2020 20:51:46
DPDK git baseline: Repo:dpdk-next-net
Branch: master
CommitID:afaa11e021468a0ac9202c24b12ba421a30603da
64432-64436 --> testing pass
Test environment and result as below:
+------------------+-------------------+--------------+----------------+------------------+--------------------+
| Environment | dpdk_compile_spdk | dpdk_compile | dpdk_unit_test | dpdk_compile_ovs | dpdk_meson_compile |
+==================+===================+==============+================+==================+====================+
| Ubuntu 18.04 | PASS | PASS | PASS | PASS | PASS |
+------------------+-------------------+--------------+----------------+------------------+--------------------+
| FreeBSD 11.2 | PASS | PASS | SKIPPED | SKIPPED | PASS |
+------------------+-------------------+--------------+----------------+------------------+--------------------+
| openSUSE Leap 15 | SKIPPED | PASS | SKIPPED | PASS | PASS |
+------------------+-------------------+--------------+----------------+------------------+--------------------+
| Arch Linux | SKIPPED | PASS | SKIPPED | PASS | PASS |
+------------------+-------------------+--------------+----------------+------------------+--------------------+
| Fedora 31 | SKIPPED | PASS | SKIPPED | PASS | PASS |
+------------------+-------------------+--------------+----------------+------------------+--------------------+
| CentOS 8 | SKIPPED | PASS | SKIPPED | PASS | PASS |
+------------------+-------------------+--------------+----------------+------------------+--------------------+
Ubuntu 18.04
Kernel: 4.15.0-generic
GCC: 7.4
FreeBSD 11.2
Kernel: 11.2
GCC: 8.3
openSUSE Leap 15
Kernel: 4.12.14
GCC: 7.4.1
Arch Linux
Kernel: latest
GCC: latest
Fedora 31
Kernel: 5.3.16
GCC: 9.2.1
CentOS 8
Kernel: 4.18.0.el8_0
GCC: 8.2
To view detailed results, visit:
https://lab.dpdk.org/results/dashboard/patchsets/9129/
UNH-IOL DPDK Community Lab
To manage your email subscriptions, visit:
https://lab.dpdk.org/results/dashboard/preferences/subscriptions/
More information about the test-report
mailing list