[dpdk-test-report] |SUCCESS| pw64774 [PATCH] vhost: check vhost message header size read
dpdklab at iol.unh.edu
dpdklab at iol.unh.edu
Thu Jan 16 23:18:07 CET 2020
Test-Label: iol-testing
Test-Status: SUCCESS
http://dpdk.org/patch/64774
_Testing PASS_
Submitter: Maxime Coquelin <maxime.coquelin at redhat.com>
Date: Thursday, January 16 2020 10:44:44
DPDK git baseline: Repo:dpdk-next-virtio
Branch: master
CommitID:653aa0f3d3daebceadebb5a88236028c49b33ea1
64774 --> testing pass
Test environment and result as below:
+------------------+-------------------+------------------+--------------------+----------------+--------------+
| Environment | dpdk_compile_spdk | dpdk_compile_ovs | dpdk_meson_compile | dpdk_unit_test | dpdk_compile |
+==================+===================+==================+====================+================+==============+
| Ubuntu 18.04 | PASS | PASS | PASS | PASS | PASS |
+------------------+-------------------+------------------+--------------------+----------------+--------------+
| FreeBSD 11.2 | PASS | SKIPPED | PASS | SKIPPED | PASS |
+------------------+-------------------+------------------+--------------------+----------------+--------------+
| openSUSE Leap 15 | SKIPPED | PASS | PASS | SKIPPED | PASS |
+------------------+-------------------+------------------+--------------------+----------------+--------------+
| Arch Linux | SKIPPED | PASS | PASS | SKIPPED | PASS |
+------------------+-------------------+------------------+--------------------+----------------+--------------+
| Fedora 31 | SKIPPED | PASS | PASS | SKIPPED | PASS |
+------------------+-------------------+------------------+--------------------+----------------+--------------+
| CentOS 8 | SKIPPED | PASS | PASS | SKIPPED | PASS |
+------------------+-------------------+------------------+--------------------+----------------+--------------+
Ubuntu 18.04
Kernel: 4.15.0-generic
GCC: 7.4
FreeBSD 11.2
Kernel: 11.2
GCC: 8.3
openSUSE Leap 15
Kernel: 4.12.14
GCC: 7.4.1
Arch Linux
Kernel: latest
GCC: latest
Fedora 31
Kernel: 5.3.16
GCC: 9.2.1
CentOS 8
Kernel: 4.18.0.el8_0
GCC: 8.3.1
To view detailed results, visit:
https://lab.dpdk.org/results/dashboard/patchsets/9228/
UNH-IOL DPDK Community Lab
To manage your email subscriptions, visit:
https://lab.dpdk.org/results/dashboard/preferences/subscriptions/
More information about the test-report
mailing list