[dpdk-test-report] |SUCCESS| pw64816 [PATCH] net/mlx5: add GTP item support
dpdklab at iol.unh.edu
dpdklab at iol.unh.edu
Fri Jan 17 03:11:07 CET 2020
Test-Label: iol-testing
Test-Status: SUCCESS
http://dpdk.org/patch/64816
_Testing PASS_
Submitter: Dekel Peled <dekelp at mellanox.com>
Date: Thursday, January 16 2020 18:36:23
DPDK git baseline: Repo:dpdk
Branch: master
CommitID:bbfc94efcafab236339cd1ec73bb523275d52c60
64816 --> testing pass
Test environment and result as below:
+------------------+-------------------+--------------------+------------------+----------------+--------------+
| Environment | dpdk_compile_spdk | dpdk_meson_compile | dpdk_compile_ovs | dpdk_unit_test | dpdk_compile |
+==================+===================+====================+==================+================+==============+
| Ubuntu 18.04 | PASS | PASS | PASS | PASS | PASS |
+------------------+-------------------+--------------------+------------------+----------------+--------------+
| FreeBSD 11.2 | PASS | PASS | SKIPPED | SKIPPED | PASS |
+------------------+-------------------+--------------------+------------------+----------------+--------------+
| Arch Linux | SKIPPED | PASS | PASS | SKIPPED | PASS |
+------------------+-------------------+--------------------+------------------+----------------+--------------+
| openSUSE Leap 15 | SKIPPED | PASS | PASS | SKIPPED | PASS |
+------------------+-------------------+--------------------+------------------+----------------+--------------+
| Fedora 31 | SKIPPED | PASS | PASS | SKIPPED | PASS |
+------------------+-------------------+--------------------+------------------+----------------+--------------+
Ubuntu 18.04
Kernel: 4.15.0-generic
GCC: 7.4
FreeBSD 11.2
Kernel: 11.2
GCC: 8.3
Arch Linux
Kernel: latest
GCC: latest
openSUSE Leap 15
Kernel: 4.12.14
GCC: 7.4.1
Fedora 31
Kernel: 5.3.16
GCC: 9.2.1
To view detailed results, visit:
https://lab.dpdk.org/results/dashboard/patchsets/9247/
UNH-IOL DPDK Community Lab
To manage your email subscriptions, visit:
https://lab.dpdk.org/results/dashboard/preferences/subscriptions/
More information about the test-report
mailing list