[dpdk-test-report] |SUCCESS| pw65033 [PATCH] net/mlx5: fix setting of port ID for egress rules

dpdklab at iol.unh.edu dpdklab at iol.unh.edu
Wed Jan 22 14:06:15 CET 2020


Test-Label: iol-testing
Test-Status: SUCCESS
http://dpdk.org/patch/65033

_Testing PASS_

Submitter: Dekel Peled <dekelp at mellanox.com>
Date: Wednesday, January 22 2020 12:33:06 
DPDK git baseline: Repo:dpdk
  Branch: master
  CommitID:73c392e24f5e29acbe53044dccb6b07ebbae2467

65033 --> testing pass

Test environment and result as below:

+------------------+-------------------+--------------+------------------+--------------------+----------------+
|   Environment    | dpdk_compile_spdk | dpdk_compile | dpdk_compile_ovs | dpdk_meson_compile | dpdk_unit_test |
+==================+===================+==============+==================+====================+================+
| FreeBSD 11.2     | PASS              | PASS         | SKIPPED          | PASS               | SKIPPED        |
+------------------+-------------------+--------------+------------------+--------------------+----------------+
| Ubuntu 18.04     | PASS              | PASS         | PASS             | PASS               | PASS           |
+------------------+-------------------+--------------+------------------+--------------------+----------------+
| openSUSE Leap 15 | SKIPPED           | PASS         | PASS             | PASS               | SKIPPED        |
+------------------+-------------------+--------------+------------------+--------------------+----------------+
| Fedora 31        | SKIPPED           | PASS         | PASS             | PASS               | SKIPPED        |
+------------------+-------------------+--------------+------------------+--------------------+----------------+
| CentOS 8         | SKIPPED           | PASS         | PASS             | PASS               | SKIPPED        |
+------------------+-------------------+--------------+------------------+--------------------+----------------+
| Arch Linux       | SKIPPED           | PASS         | PASS             | PASS               | SKIPPED        |
+------------------+-------------------+--------------+------------------+--------------------+----------------+

FreeBSD 11.2
	Kernel: 11.2
	GCC: 8.3

Ubuntu 18.04
	Kernel: 4.15.0-generic
	GCC: 7.4

openSUSE Leap 15
	Kernel: 4.12.14
	GCC: 7.4.1

Fedora 31
	Kernel: 5.3.16
	GCC: 9.2.1

CentOS 8
	Kernel: 4.18.0.el8_0
	GCC: 8.3.1

Arch Linux
	Kernel: latest
	GCC: latest

To view detailed results, visit:
https://lab.dpdk.org/results/dashboard/patchsets/9328/

UNH-IOL DPDK Community Lab

To manage your email subscriptions, visit: 
https://lab.dpdk.org/results/dashboard/preferences/subscriptions/


More information about the test-report mailing list