[dpdk-test-report] |SUCCESS| pw65047 [PATCH] net/mlx5: fix icmpv6 header rewrite actions
dpdklab at iol.unh.edu
dpdklab at iol.unh.edu
Wed Jan 22 19:01:39 CET 2020
Test-Label: iol-testing
Test-Status: SUCCESS
http://dpdk.org/patch/65047
_Testing PASS_
Submitter: Shiri Kuzin <shirik at mellanox.com>
Date: Wednesday, January 22 2020 14:37:54
DPDK git baseline: Repo:dpdk
Branch: master
CommitID:73c392e24f5e29acbe53044dccb6b07ebbae2467
65047 --> testing pass
Test environment and result as below:
+------------------+-------------------+--------------------+--------------+------------------+----------------+
| Environment | dpdk_compile_spdk | dpdk_meson_compile | dpdk_compile | dpdk_compile_ovs | dpdk_unit_test |
+==================+===================+====================+==============+==================+================+
| FreeBSD 11.2 | PASS | PASS | PASS | SKIPPED | SKIPPED |
+------------------+-------------------+--------------------+--------------+------------------+----------------+
| Ubuntu 18.04 | PASS | PASS | PASS | PASS | PASS |
+------------------+-------------------+--------------------+--------------+------------------+----------------+
| Arch Linux | SKIPPED | PASS | PASS | PASS | SKIPPED |
+------------------+-------------------+--------------------+--------------+------------------+----------------+
| openSUSE Leap 15 | SKIPPED | PASS | PASS | PASS | SKIPPED |
+------------------+-------------------+--------------------+--------------+------------------+----------------+
| Fedora 31 | SKIPPED | PASS | PASS | PASS | SKIPPED |
+------------------+-------------------+--------------------+--------------+------------------+----------------+
FreeBSD 11.2
Kernel: 11.2
GCC: 8.3
Ubuntu 18.04
Kernel: 4.15.0-generic
GCC: 7.4
Arch Linux
Kernel: latest
GCC: latest
openSUSE Leap 15
Kernel: 4.12.14
GCC: 7.4.1
Fedora 31
Kernel: 5.3.16
GCC: 9.2.1
To view detailed results, visit:
https://lab.dpdk.org/results/dashboard/patchsets/9331/
UNH-IOL DPDK Community Lab
To manage your email subscriptions, visit:
https://lab.dpdk.org/results/dashboard/preferences/subscriptions/
More information about the test-report
mailing list