[dpdk-test-report] |SUCCESS| pw65108-65110 [PATCH] [v3, 1/3] app: use RTE_DIM to calculate array size
dpdklab at iol.unh.edu
dpdklab at iol.unh.edu
Fri Jan 24 06:36:31 CET 2020
Test-Label: iol-testing
Test-Status: SUCCESS
http://dpdk.org/patch/65108
_Testing PASS_
Submitter: Pavan Nikhilesh Bhagavatula <pbhagavatula at marvell.com>
Date: Friday, January 24 2020 04:55:42
DPDK git baseline: Repo:dpdk
Branch: master
CommitID:c465e6b94be343303303f26b95f3c2ae4969063e
65108-65110 --> testing pass
Test environment and result as below:
+------------------+--------------+-------------------+--------------------+----------------+------------------+
| Environment | dpdk_compile | dpdk_compile_spdk | dpdk_meson_compile | dpdk_unit_test | dpdk_compile_ovs |
+==================+==============+===================+====================+================+==================+
| FreeBSD 11.2 | PASS | PASS | PASS | SKIPPED | SKIPPED |
+------------------+--------------+-------------------+--------------------+----------------+------------------+
| openSUSE Leap 15 | PASS | SKIPPED | PASS | SKIPPED | PASS |
+------------------+--------------+-------------------+--------------------+----------------+------------------+
| Ubuntu 18.04 | PASS | PASS | PASS | PASS | PASS |
+------------------+--------------+-------------------+--------------------+----------------+------------------+
| Arch Linux | PASS | SKIPPED | PASS | SKIPPED | PASS |
+------------------+--------------+-------------------+--------------------+----------------+------------------+
| Fedora 31 | PASS | SKIPPED | PASS | SKIPPED | PASS |
+------------------+--------------+-------------------+--------------------+----------------+------------------+
| CentOS 8 | PASS | SKIPPED | PASS | SKIPPED | PASS |
+------------------+--------------+-------------------+--------------------+----------------+------------------+
FreeBSD 11.2
Kernel: 11.2
GCC: 8.3
openSUSE Leap 15
Kernel: 4.12.14
GCC: 7.4.1
Ubuntu 18.04
Kernel: 4.15.0-generic
GCC: 7.4
Arch Linux
Kernel: latest
GCC: latest
Fedora 31
Kernel: 5.3.16
GCC: 9.2.1
CentOS 8
Kernel: 4.18.0.el8_0
GCC: 8.3.1
To view detailed results, visit:
https://lab.dpdk.org/results/dashboard/patchsets/9350/
UNH-IOL DPDK Community Lab
To manage your email subscriptions, visit:
https://lab.dpdk.org/results/dashboard/preferences/subscriptions/
More information about the test-report
mailing list