[dpdk-test-report] |SUCCESS| pw65231 [PATCH] [v3] net/i40e: fix i40e flow director merge
dpdklab at iol.unh.edu
dpdklab at iol.unh.edu
Tue Jan 28 16:16:33 CET 2020
Test-Label: iol-testing
Test-Status: SUCCESS
http://dpdk.org/patch/65231
_Testing PASS_
Submitter: Bernard Iremonger <bernard.iremonger at intel.com>
Date: Tuesday, January 28 2020 13:48:45
DPDK git baseline: Repo:dpdk
Branch: master
CommitID:c465e6b94be343303303f26b95f3c2ae4969063e
65231 --> testing pass
Test environment and result as below:
+------------------+-------------------+------------------+--------------+----------------+--------------------+
| Environment | dpdk_compile_spdk | dpdk_compile_ovs | dpdk_compile | dpdk_unit_test | dpdk_meson_compile |
+==================+===================+==================+==============+================+====================+
| FreeBSD 11.2 | PASS | SKIPPED | PASS | SKIPPED | PASS |
+------------------+-------------------+------------------+--------------+----------------+--------------------+
| Ubuntu 18.04 | PASS | PASS | PASS | PASS | PASS |
+------------------+-------------------+------------------+--------------+----------------+--------------------+
| openSUSE Leap 15 | SKIPPED | PASS | PASS | SKIPPED | PASS |
+------------------+-------------------+------------------+--------------+----------------+--------------------+
| Arch Linux | SKIPPED | PASS | PASS | SKIPPED | PASS |
+------------------+-------------------+------------------+--------------+----------------+--------------------+
| CentOS 8 | SKIPPED | PASS | PASS | SKIPPED | PASS |
+------------------+-------------------+------------------+--------------+----------------+--------------------+
FreeBSD 11.2
Kernel: 11.2
GCC: 8.3
Ubuntu 18.04
Kernel: 4.15.0-generic
GCC: 7.4
openSUSE Leap 15
Kernel: 4.12.14
GCC: 7.4.1
Arch Linux
Kernel: latest
GCC: latest
CentOS 8
Kernel: 4.18.0.el8_0
GCC: 8.3.1
To view detailed results, visit:
https://lab.dpdk.org/results/dashboard/patchsets/9390/
UNH-IOL DPDK Community Lab
To manage your email subscriptions, visit:
https://lab.dpdk.org/results/dashboard/preferences/subscriptions/
More information about the test-report
mailing list