[dpdk-test-report] |SUCCESS| pw65242-65243 [PATCH] [1/2] devtools:	standardize script arguments
    dpdklab at iol.unh.edu 
    dpdklab at iol.unh.edu
       
    Tue Jan 28 19:22:04 CET 2020
    
    
  
Test-Label: iol-testing
Test-Status: SUCCESS
http://dpdk.org/patch/65242
_Testing PASS_
Submitter: Ciara Power <ciara.power at intel.com>
Date: Tuesday, January 28 2020 15:02:55 
DPDK git baseline: Repo:dpdk
  Branch: master
  CommitID:c465e6b94be343303303f26b95f3c2ae4969063e
65242-65243 --> testing pass
Test environment and result as below:
+------------------+-------------------+--------------+------------------+----------------+--------------------+
|   Environment    | dpdk_compile_spdk | dpdk_compile | dpdk_compile_ovs | dpdk_unit_test | dpdk_meson_compile |
+==================+===================+==============+==================+================+====================+
| FreeBSD 11.2     | PASS              | PASS         | SKIPPED          | SKIPPED        | PASS               |
+------------------+-------------------+--------------+------------------+----------------+--------------------+
| Ubuntu 18.04     | PASS              | PASS         | PASS             | PASS           | PASS               |
+------------------+-------------------+--------------+------------------+----------------+--------------------+
| Arch Linux       | SKIPPED           | PASS         | PASS             | SKIPPED        | PASS               |
+------------------+-------------------+--------------+------------------+----------------+--------------------+
| openSUSE Leap 15 | SKIPPED           | PASS         | PASS             | SKIPPED        | PASS               |
+------------------+-------------------+--------------+------------------+----------------+--------------------+
FreeBSD 11.2
	Kernel: 11.2
	GCC: 8.3
Ubuntu 18.04
	Kernel: 4.15.0-generic
	GCC: 7.4
Arch Linux
	Kernel: latest
	GCC: latest
openSUSE Leap 15
	Kernel: 4.12.14
	GCC: 7.4.1
To view detailed results, visit:
https://lab.dpdk.org/results/dashboard/patchsets/9392/
UNH-IOL DPDK Community Lab
To manage your email subscriptions, visit: 
https://lab.dpdk.org/results/dashboard/preferences/subscriptions/
    
    
More information about the test-report
mailing list