[dpdk-test-report] |SUCCESS| pw65272 [PATCH] net/mlx5: make FDB default rule optional
dpdklab at iol.unh.edu
dpdklab at iol.unh.edu
Tue Jan 28 23:29:09 CET 2020
Test-Label: iol-testing
Test-Status: SUCCESS
http://dpdk.org/patch/65272
_Testing PASS_
Submitter: Matan Azrad <matan at mellanox.com>
Date: Tuesday, January 28 2020 17:06:43
DPDK git baseline: Repo:dpdk
Branch: master
CommitID:c465e6b94be343303303f26b95f3c2ae4969063e
65272 --> testing pass
Test environment and result as below:
+------------------+-------------------+--------------+------------------+--------------------+----------------+
| Environment | dpdk_compile_spdk | dpdk_compile | dpdk_compile_ovs | dpdk_meson_compile | dpdk_unit_test |
+==================+===================+==============+==================+====================+================+
| FreeBSD 11.2 | PASS | PASS | SKIPPED | PASS | SKIPPED |
+------------------+-------------------+--------------+------------------+--------------------+----------------+
| Ubuntu 18.04 | PASS | PASS | PASS | PASS | PASS |
+------------------+-------------------+--------------+------------------+--------------------+----------------+
| openSUSE Leap 15 | SKIPPED | PASS | PASS | PASS | SKIPPED |
+------------------+-------------------+--------------+------------------+--------------------+----------------+
| Arch Linux | SKIPPED | PASS | PASS | PASS | SKIPPED |
+------------------+-------------------+--------------+------------------+--------------------+----------------+
| CentOS 8 | SKIPPED | PASS | PASS | PASS | SKIPPED |
+------------------+-------------------+--------------+------------------+--------------------+----------------+
FreeBSD 11.2
Kernel: 11.2
GCC: 8.3
Ubuntu 18.04
Kernel: 4.15.0-generic
GCC: 7.4
openSUSE Leap 15
Kernel: 4.12.14
GCC: 7.4.1
Arch Linux
Kernel: latest
GCC: latest
CentOS 8
Kernel: 4.18.0.el8_0
GCC: 8.3.1
To view detailed results, visit:
https://lab.dpdk.org/results/dashboard/patchsets/9396/
UNH-IOL DPDK Community Lab
To manage your email subscriptions, visit:
https://lab.dpdk.org/results/dashboard/preferences/subscriptions/
More information about the test-report
mailing list