[dpdk-test-report] |SUCCESS| [GIT MASTER] 261b2ab8c0b3d5479038f6a0beaf99ad31d9c8d0
dpdklab at iol.unh.edu
dpdklab at iol.unh.edu
Thu Jan 30 00:48:32 CET 2020
_Testing PASS_
Branch: dpdk-next-net-brcm
261b2ab8c0b3d5479038f6a0beaf99ad31d9c8d0 --> testing pass
Test environment and result as below:
+------------------+-------------------+------------------+----------------+--------------------+--------------+
| Environment | dpdk_compile_spdk | dpdk_compile_ovs | dpdk_unit_test | dpdk_meson_compile | dpdk_compile |
+==================+===================+==================+================+====================+==============+
| FreeBSD 11.2 | PASS | SKIPPED | SKIPPED | PASS | PASS |
+------------------+-------------------+------------------+----------------+--------------------+--------------+
| Ubuntu 18.04 | PASS | PASS | PASS | PASS | PASS |
+------------------+-------------------+------------------+----------------+--------------------+--------------+
| openSUSE Leap 15 | SKIPPED | PASS | SKIPPED | PASS | PASS |
+------------------+-------------------+------------------+----------------+--------------------+--------------+
| Arch Linux | SKIPPED | PASS | SKIPPED | PASS | PASS |
+------------------+-------------------+------------------+----------------+--------------------+--------------+
| CentOS 8 | SKIPPED | PASS | SKIPPED | PASS | PASS |
+------------------+-------------------+------------------+----------------+--------------------+--------------+
FreeBSD 11.2
Kernel: 11.2
GCC: 8.3
Ubuntu 18.04
Kernel: 4.15.0-generic
GCC: 7.4
openSUSE Leap 15
Kernel: 4.12.14
GCC: 7.4.1
Arch Linux
Kernel: latest
GCC: latest
CentOS 8
Kernel: 4.18.0.el8_0
GCC: 8.3.1
To view detailed results, visit:
https://lab.dpdk.org/results/dashboard/tarballs/7965/
UNH-IOL DPDK Community Lab
To manage your email subscriptions, visit:
https://lab.dpdk.org/results/dashboard/preferences/subscriptions/
More information about the test-report
mailing list