[dpdk-test-report] |SUCCESS| pw65379 [PATCH] [v2] net/octeontx2: enable full flow control for HIGIG

dpdklab at iol.unh.edu dpdklab at iol.unh.edu
Thu Jan 30 20:50:56 CET 2020


Test-Label: iol-testing
Test-Status: SUCCESS
http://dpdk.org/patch/65379

_Testing PASS_

Submitter: Kiran Kumar Kokkilagadda <kirankumark at marvell.com>
Date: Thursday, January 30 2020 16:23:24 
DPDK git baseline: Repo:dpdk
  Branch: master
  CommitID:c465e6b94be343303303f26b95f3c2ae4969063e

65379 --> testing pass

Test environment and result as below:

+------------------+-------------------+------------------+--------------+--------------------+----------------+
|   Environment    | dpdk_compile_spdk | dpdk_compile_ovs | dpdk_compile | dpdk_meson_compile | dpdk_unit_test |
+==================+===================+==================+==============+====================+================+
| Ubuntu 18.04     | PASS              | PASS             | PASS         | PASS               | PASS           |
+------------------+-------------------+------------------+--------------+--------------------+----------------+
| FreeBSD 11.2     | PASS              | SKIPPED          | PASS         | PASS               | SKIPPED        |
+------------------+-------------------+------------------+--------------+--------------------+----------------+
| openSUSE Leap 15 | SKIPPED           | PASS             | PASS         | PASS               | SKIPPED        |
+------------------+-------------------+------------------+--------------+--------------------+----------------+
| Fedora 31        | SKIPPED           | PASS             | PASS         | PASS               | SKIPPED        |
+------------------+-------------------+------------------+--------------+--------------------+----------------+
| Arch Linux       | SKIPPED           | PASS             | PASS         | PASS               | SKIPPED        |
+------------------+-------------------+------------------+--------------+--------------------+----------------+
| CentOS 8         | SKIPPED           | PASS             | PASS         | PASS               | SKIPPED        |
+------------------+-------------------+------------------+--------------+--------------------+----------------+

Ubuntu 18.04
	Kernel: 4.15.0-generic
	GCC: 7.4

FreeBSD 11.2
	Kernel: 11.2
	GCC: 8.3

openSUSE Leap 15
	Kernel: 4.12.14
	GCC: 7.4.1

Fedora 31
	Kernel: 5.3.16
	GCC: 9.2.1

Arch Linux
	Kernel: latest
	GCC: latest

CentOS 8
	Kernel: 4.18.0.el8_0
	GCC: 8.3.1

To view detailed results, visit:
https://lab.dpdk.org/results/dashboard/patchsets/9429/

UNH-IOL DPDK Community Lab

To manage your email subscriptions, visit: 
https://lab.dpdk.org/results/dashboard/preferences/subscriptions/


More information about the test-report mailing list