[dpdk-test-report] |SUCCESS| pw72940-72943 [PATCH] [v6, 1/5] net/ice: add support more PPPoE packeat type for switch
dpdklab at iol.unh.edu
dpdklab at iol.unh.edu
Sun Jul 5 07:32:27 CEST 2020
Test-Label: iol-testing
Test-Status: SUCCESS
http://dpdk.org/patch/72940
_Testing PASS_
Submitter: Zhao1, Wei <wei.zhao1 at intel.com>
Date: Friday, July 03 2020 06:19:34
DPDK git baseline: Repo:dpdk-next-net-intel
Branch: master
CommitID:6afbd508be61c505c36dc5dac55c3e084db0e9a0
72940-72943 --> testing pass
Test environment and result as below:
+---------------------+--------------------+-------------------+------------------+----------------+--------------+
| Environment | dpdk_meson_compile | dpdk_compile_spdk | dpdk_compile_ovs | dpdk_unit_test | dpdk_compile |
+=====================+====================+===================+==================+================+==============+
| Windows Server 2019 | PASS | SKIPPED | SKIPPED | SKIPPED | SKIPPED |
+---------------------+--------------------+-------------------+------------------+----------------+--------------+
| Fedora 31 | PASS | PASS | PASS | SKIPPED | PASS |
+---------------------+--------------------+-------------------+------------------+----------------+--------------+
| Ubuntu 18.04 | PASS | PASS | PASS | PASS | PASS |
+---------------------+--------------------+-------------------+------------------+----------------+--------------+
| CentOS 8 | PASS | PASS | PASS | SKIPPED | PASS |
+---------------------+--------------------+-------------------+------------------+----------------+--------------+
| Arch Linux | PASS | SKIPPED | PASS | SKIPPED | PASS |
+---------------------+--------------------+-------------------+------------------+----------------+--------------+
| openSUSE Leap 15 | PASS | PASS | PASS | SKIPPED | PASS |
+---------------------+--------------------+-------------------+------------------+----------------+--------------+
| FreeBSD 11.2 | PASS | PASS | SKIPPED | SKIPPED | PASS |
+---------------------+--------------------+-------------------+------------------+----------------+--------------+
Windows Server 2019
Kernel: 10.0
Compiler: clang 9.0
Fedora 31
Kernel: 5.3.16
Compiler: gcc 9.2.1
Ubuntu 18.04
Kernel: 4.15.0-generic
Compiler: gcc 7.4
CentOS 8
Kernel: 4.18.0.el8_0
Compiler: gcc 8.3.1
Arch Linux
Kernel: latest
Compiler: gcc latest
openSUSE Leap 15
Kernel: 4.12.14
Compiler: gcc 7.4.1
FreeBSD 11.2
Kernel: 11.2
Compiler: gcc 8.3
To view detailed results, visit:
https://lab.dpdk.org/results/dashboard/patchsets/11809/
UNH-IOL DPDK Community Lab
To manage your email subscriptions, visit:
https://lab.dpdk.org/results/dashboard/preferences/subscriptions/
More information about the test-report
mailing list