[dpdk-test-report] |SUCCESS| [GIT MASTER] 466032ef8012a7fddd8dda986c5977e9341e3c35
dpdklab at iol.unh.edu
dpdklab at iol.unh.edu
Tue Jul 14 19:33:22 CEST 2020
_Testing PASS_
Branch: dpdk
466032ef8012a7fddd8dda986c5977e9341e3c35 --> testing pass
Test environment and result as below:
+---------------------+----------------+--------------------+--------------+------------------+-------------------+
| Environment | dpdk_unit_test | dpdk_meson_compile | dpdk_compile | dpdk_compile_ovs | dpdk_compile_spdk |
+=====================+================+====================+==============+==================+===================+
| Ubuntu 18.04 | PASS | PASS | PASS | PASS | PASS |
+---------------------+----------------+--------------------+--------------+------------------+-------------------+
| Windows Server 2019 | SKIPPED | PASS | SKIPPED | SKIPPED | SKIPPED |
+---------------------+----------------+--------------------+--------------+------------------+-------------------+
| FreeBSD 11.2 | SKIPPED | PASS | PASS | SKIPPED | PASS |
+---------------------+----------------+--------------------+--------------+------------------+-------------------+
| Fedora 31 | SKIPPED | PASS | PASS | PASS | PASS |
+---------------------+----------------+--------------------+--------------+------------------+-------------------+
| CentOS 8 | SKIPPED | PASS | PASS | PASS | PASS |
+---------------------+----------------+--------------------+--------------+------------------+-------------------+
| openSUSE Leap 15 | SKIPPED | PASS | PASS | PASS | PASS |
+---------------------+----------------+--------------------+--------------+------------------+-------------------+
| Arch Linux | SKIPPED | PASS | PASS | PASS | SKIPPED |
+---------------------+----------------+--------------------+--------------+------------------+-------------------+
Ubuntu 18.04
Kernel: 4.15.0-generic
Compiler: gcc 7.4
Windows Server 2019
Kernel: 10.0
Compiler: clang 9.0
FreeBSD 11.2
Kernel: 11.2
Compiler: gcc 8.3
Fedora 31
Kernel: 5.3.16
Compiler: gcc 9.2.1
CentOS 8
Kernel: 4.18.0.el8_0
Compiler: gcc 8.3.1
openSUSE Leap 15
Kernel: 4.12.14
Compiler: gcc 7.4.1
Arch Linux
Kernel: latest
Compiler: gcc latest
To view detailed results, visit:
https://lab.dpdk.org/results/dashboard/tarballs/10470/
UNH-IOL DPDK Community Lab
To manage your email subscriptions, visit:
https://lab.dpdk.org/results/dashboard/preferences/subscriptions/
More information about the test-report
mailing list