[dpdk-test-report] |SUCCESS| [GIT MASTER] 76e821a303fd566c937f8e60c03a4f5803cc00ed
dpdklab at iol.unh.edu
dpdklab at iol.unh.edu
Thu Jul 30 13:20:18 CEST 2020
_Testing PASS_
Branch: dpdk
76e821a303fd566c937f8e60c03a4f5803cc00ed --> testing pass
Test environment and result as below:
+---------------------+----------------+--------------------+------------------+-------------------+--------------+
| Environment | dpdk_unit_test | dpdk_meson_compile | dpdk_compile_ovs | dpdk_compile_spdk | dpdk_compile |
+=====================+================+====================+==================+===================+==============+
| Ubuntu 18.04 | PASS | PASS | PASS | PASS | PASS |
+---------------------+----------------+--------------------+------------------+-------------------+--------------+
| Windows Server 2019 | SKIPPED | PASS | SKIPPED | SKIPPED | SKIPPED |
+---------------------+----------------+--------------------+------------------+-------------------+--------------+
| FreeBSD 11.2 | SKIPPED | PASS | SKIPPED | PASS | PASS |
+---------------------+----------------+--------------------+------------------+-------------------+--------------+
| CentOS 8 | SKIPPED | PASS | PASS | PASS | PASS |
+---------------------+----------------+--------------------+------------------+-------------------+--------------+
| Fedora 31 | SKIPPED | PASS | PASS | PASS | PASS |
+---------------------+----------------+--------------------+------------------+-------------------+--------------+
| openSUSE Leap 15 | SKIPPED | PASS | PASS | PASS | PASS |
+---------------------+----------------+--------------------+------------------+-------------------+--------------+
| Arch Linux | SKIPPED | PASS | PASS | SKIPPED | PASS |
+---------------------+----------------+--------------------+------------------+-------------------+--------------+
Ubuntu 18.04
Kernel: 4.15.0-generic
Compiler: gcc 7.4
Windows Server 2019
Kernel: 10.0
Compiler: clang 9.0
FreeBSD 11.2
Kernel: 11.2
Compiler: gcc 8.3
CentOS 8
Kernel: 4.18.0.el8_0
Compiler: gcc 8.3.1
Fedora 31
Kernel: 5.3.16
Compiler: gcc 9.2.1
openSUSE Leap 15
Kernel: 4.12.14
Compiler: gcc 7.4.1
Arch Linux
Kernel: latest
Compiler: gcc latest
To view detailed results, visit:
https://lab.dpdk.org/results/dashboard/tarballs/10858/
UNH-IOL DPDK Community Lab
To manage your email subscriptions, visit:
https://lab.dpdk.org/results/dashboard/preferences/subscriptions/
More information about the test-report
mailing list