[dpdk-test-report] |SUCCESS| pw70971 [PATCH] test/ring_perf: fix error statistics in bulk enq/dequeue
dpdklab at iol.unh.edu
dpdklab at iol.unh.edu
Tue Jun 9 01:04:37 CEST 2020
Test-Label: iol-testing
Test-Status: SUCCESS
http://dpdk.org/patch/70971
_Testing PASS_
Submitter: Feifei Wang <feifei.wang2 at arm.com>
Date: Monday, June 08 2020 05:49:38
DPDK git baseline: Repo:dpdk
Branch: master
CommitID:60814f955cfdebeb1d7bb3c8c5ae6c566b15f572
70971 --> testing pass
Test environment and result as below:
+---------------------+--------------------+-------------------+--------------+------------------+----------------+
| Environment | dpdk_meson_compile | dpdk_compile_spdk | dpdk_compile | dpdk_compile_ovs | dpdk_unit_test |
+=====================+====================+===================+==============+==================+================+
| Windows Server 2019 | PASS | SKIPPED | SKIPPED | SKIPPED | SKIPPED |
+---------------------+--------------------+-------------------+--------------+------------------+----------------+
| CentOS 8 | PASS | PASS | PASS | PASS | SKIPPED |
+---------------------+--------------------+-------------------+--------------+------------------+----------------+
| Fedora 31 | PASS | PASS | PASS | PASS | SKIPPED |
+---------------------+--------------------+-------------------+--------------+------------------+----------------+
| Ubuntu 18.04 | PASS | PASS | PASS | PASS | PASS |
+---------------------+--------------------+-------------------+--------------+------------------+----------------+
| openSUSE Leap 15 | PASS | PASS | PASS | PASS | SKIPPED |
+---------------------+--------------------+-------------------+--------------+------------------+----------------+
| Arch Linux | PASS | SKIPPED | PASS | PASS | SKIPPED |
+---------------------+--------------------+-------------------+--------------+------------------+----------------+
| FreeBSD 11.2 | PASS | PASS | PASS | SKIPPED | SKIPPED |
+---------------------+--------------------+-------------------+--------------+------------------+----------------+
Windows Server 2019
Kernel: 10.0
Compiler: clang 9.0
CentOS 8
Kernel: 4.18.0.el8_0
Compiler: gcc 8.3.1
Fedora 31
Kernel: 5.3.16
Compiler: gcc 9.2.1
Ubuntu 18.04
Kernel: 4.15.0-generic
Compiler: gcc 7.4
openSUSE Leap 15
Kernel: 4.12.14
Compiler: gcc 7.4.1
Arch Linux
Kernel: latest
Compiler: gcc latest
FreeBSD 11.2
Kernel: 11.2
Compiler: gcc 8.3
To view detailed results, visit:
https://lab.dpdk.org/results/dashboard/patchsets/11401/
UNH-IOL DPDK Community Lab
To manage your email subscriptions, visit:
https://lab.dpdk.org/results/dashboard/preferences/subscriptions/
More information about the test-report
mailing list