[dpdk-test-report] |SUCCESS| pw72018-72023 [PATCH] [v2, 1/6] cryptodev: add security operation to crypto operation
dpdklab at iol.unh.edu
dpdklab at iol.unh.edu
Wed Jun 24 05:26:51 CEST 2020
Test-Label: iol-testing
Test-Status: SUCCESS
http://dpdk.org/patch/72018
_Testing PASS_
Submitter: Coyle, David <david.coyle at intel.com>
Date: Tuesday, June 23 2020 10:14:18
DPDK git baseline: Repo:dpdk
Branch: master
CommitID:2e40fdc2d305e6864c8840a0985018edc94562d5
72018-72023 --> testing pass
Test environment and result as below:
+---------------------+--------------------+-------------------+----------------+------------------+--------------+
| Environment | dpdk_meson_compile | dpdk_compile_spdk | dpdk_unit_test | dpdk_compile_ovs | dpdk_compile |
+=====================+====================+===================+================+==================+==============+
| Windows Server 2019 | PASS | SKIPPED | SKIPPED | SKIPPED | SKIPPED |
+---------------------+--------------------+-------------------+----------------+------------------+--------------+
| CentOS 8 | PASS | PASS | SKIPPED | PASS | PASS |
+---------------------+--------------------+-------------------+----------------+------------------+--------------+
| Fedora 31 | PASS | PASS | SKIPPED | PASS | PASS |
+---------------------+--------------------+-------------------+----------------+------------------+--------------+
| openSUSE Leap 15 | PASS | PASS | SKIPPED | PASS | PASS |
+---------------------+--------------------+-------------------+----------------+------------------+--------------+
| Ubuntu 18.04 | PASS | PASS | PASS | PASS | PASS |
+---------------------+--------------------+-------------------+----------------+------------------+--------------+
| Arch Linux | PASS | SKIPPED | SKIPPED | PASS | PASS |
+---------------------+--------------------+-------------------+----------------+------------------+--------------+
| FreeBSD 11.2 | PASS | PASS | SKIPPED | SKIPPED | PASS |
+---------------------+--------------------+-------------------+----------------+------------------+--------------+
Windows Server 2019
Kernel: 10.0
Compiler: clang 9.0
CentOS 8
Kernel: 4.18.0.el8_0
Compiler: gcc 8.3.1
Fedora 31
Kernel: 5.3.16
Compiler: gcc 9.2.1
openSUSE Leap 15
Kernel: 4.12.14
Compiler: gcc 7.4.1
Ubuntu 18.04
Kernel: 4.15.0-generic
Compiler: gcc 7.4
Arch Linux
Kernel: latest
Compiler: gcc latest
FreeBSD 11.2
Kernel: 11.2
Compiler: gcc 8.3
To view detailed results, visit:
https://lab.dpdk.org/results/dashboard/patchsets/11620/
UNH-IOL DPDK Community Lab
To manage your email subscriptions, visit:
https://lab.dpdk.org/results/dashboard/preferences/subscriptions/
More information about the test-report
mailing list