[dpdk-test-report] |SUCCESS| pw69912 [PATCH] common/octeontx2: upgrade mbox definition to version 7
dpdklab at iol.unh.edu
dpdklab at iol.unh.edu
Wed May 13 03:24:54 CEST 2020
Test-Label: iol-testing
Test-Status: SUCCESS
http://dpdk.org/patch/69912
_Testing PASS_
Submitter: Jerin Jacob Kollanukkaran <jerinj at marvell.com>
Date: Thursday, May 07 2020 08:58:07
DPDK git baseline: Repo:dpdk
Branch: master
CommitID:0efc99bed3a0a78a02d55da02cedb5028dbcd6f1
69912 --> testing pass
Test environment and result as below:
+---------------------+-------------------+------------------+--------------------+--------------+----------------+
| Environment | dpdk_compile_spdk | dpdk_compile_ovs | dpdk_meson_compile | dpdk_compile | dpdk_unit_test |
+=====================+===================+==================+====================+==============+================+
| Ubuntu 18.04 | PASS | PASS | PASS | PASS | PASS |
+---------------------+-------------------+------------------+--------------------+--------------+----------------+
| FreeBSD 11.2 | PASS | SKIPPED | PASS | PASS | SKIPPED |
+---------------------+-------------------+------------------+--------------------+--------------+----------------+
| openSUSE Leap 15 | PASS | PASS | PASS | PASS | SKIPPED |
+---------------------+-------------------+------------------+--------------------+--------------+----------------+
| CentOS 8 | PASS | PASS | PASS | PASS | SKIPPED |
+---------------------+-------------------+------------------+--------------------+--------------+----------------+
| Fedora 31 | PASS | PASS | PASS | PASS | SKIPPED |
+---------------------+-------------------+------------------+--------------------+--------------+----------------+
| Arch Linux | SKIPPED | PASS | PASS | PASS | SKIPPED |
+---------------------+-------------------+------------------+--------------------+--------------+----------------+
| Windows Server 2019 | SKIPPED | SKIPPED | PASS | SKIPPED | SKIPPED |
+---------------------+-------------------+------------------+--------------------+--------------+----------------+
Ubuntu 18.04
Kernel: 4.15.0-generic
Compiler: gcc 7.4
FreeBSD 11.2
Kernel: 11.2
Compiler: gcc 8.3
openSUSE Leap 15
Kernel: 4.12.14
Compiler: gcc 7.4.1
CentOS 8
Kernel: 4.18.0.el8_0
Compiler: gcc 8.3.1
Fedora 31
Kernel: 5.3.16
Compiler: gcc 9.2.1
Arch Linux
Kernel: latest
Compiler: gcc latest
Windows Server 2019
Kernel: 10.0
Compiler: clang 9.0
To view detailed results, visit:
https://lab.dpdk.org/results/dashboard/patchsets/10964/
UNH-IOL DPDK Community Lab
To manage your email subscriptions, visit:
https://lab.dpdk.org/results/dashboard/preferences/subscriptions/
More information about the test-report
mailing list