[dpdk-test-report] |SUCCESS| pw82835 [PATCH] pipeline: increase immediate operand size

dpdklab at iol.unh.edu dpdklab at iol.unh.edu
Mon Nov 2 21:06:27 CET 2020


Test-Label: iol-testing
Test-Status: SUCCESS
http://dpdk.org/patch/82835

_Testing PASS_

Submitter: Cristian Dumitrescu <cristian.dumitrescu at intel.com>
Date: Thursday, October 29 2020 18:08:10 
DPDK git baseline: Repo:dpdk
  Branch: master
  CommitID:eda44ced0ec14677de6944c76955621c6182b2df

82835 --> testing pass

Test environment and result as below:

+---------------------+--------------------+----------------+
|     Environment     | dpdk_meson_compile | dpdk_unit_test |
+=====================+====================+================+
| Windows Server 2019 | PASS               | SKIPPED        |
+---------------------+--------------------+----------------+
| FreeBSD 11.2        | PASS               | SKIPPED        |
+---------------------+--------------------+----------------+
| CentOS 8            | PASS               | SKIPPED        |
+---------------------+--------------------+----------------+
| Fedora 31           | PASS               | SKIPPED        |
+---------------------+--------------------+----------------+
| openSUSE Leap 15    | PASS               | SKIPPED        |
+---------------------+--------------------+----------------+
| Arch Linux          | PASS               | SKIPPED        |
+---------------------+--------------------+----------------+
| Ubuntu 18.04        | PASS               | PASS           |
+---------------------+--------------------+----------------+

Windows Server 2019
	Kernel: 10.0
	Compiler: clang 9.0

FreeBSD 11.2
	Kernel: 11.2
	Compiler: gcc 8.3

CentOS 8
	Kernel: 4.18.0.el8_0
	Compiler: gcc 8.3.1

Fedora 31
	Kernel: 5.3.16
	Compiler: gcc 9.2.1

openSUSE Leap 15
	Kernel: 4.12.14
	Compiler: gcc 7.4.1

Arch Linux
	Kernel: latest
	Compiler: gcc latest

Ubuntu 18.04
	Kernel: 4.15.0-generic
	Compiler: gcc 7.4

To view detailed results, visit:
https://lab.dpdk.org/results/dashboard/patchsets/14147/

UNH-IOL DPDK Community Lab

To manage your email subscriptions, visit: 
https://lab.dpdk.org/results/dashboard/preferences/subscriptions/


More information about the test-report mailing list